BEGIN:VCALENDAR
VERSION:2.0
PRODID:-//ChamberMaster//Event Calendar 2.0//EN
METHOD:PUBLISH
X-PUBLISHED-TTL:P3D
REFRESH-INTERVAL:P3D
CALSCALE:GREGORIAN
BEGIN:VEVENT
DTSTART:20180718T184500Z
DTEND:20180718T201500Z
X-MICROSOFT-CDO-ALLDAYEVENT:FALSE
SUMMARY:Senator Mike McGuire Luncheon
DESCRIPTION:California's Golden Economy and Beyond\n\nChamber members and invited guests and the public will enjoy an exclusive presentation and conversation with Senator Mike McGuire\, who represents the 2nd Senate District\, which encompasses the North Coast region.
X-ALT-DESC;FMTTYPE=text/html:<em><span style="font-size:16px\;"><strong><span style="font-family:times new roman\;">California&rsquo\;s Golden Economy and Beyond</span></strong></span></em><br />\nChamber members and invited guests and the public will enjoy an exclusive presentation and conversation with Senator Mike McGuire\, who represents the 2nd Senate District\, which encompasses the North Coast region.<br />\n&nbsp\;
LOCATION:The Spinnaker Restaurant 100 Spinnaker Drive
UID:e.1780.1804
SEQUENCE:3
DTSTAMP:20260424T162018Z
URL:http://business.sausalito.org/events/details/senator-mike-mcguire-luncheon-1804
END:VEVENT

END:VCALENDAR
