BEGIN:VCALENDAR
VERSION:2.0
PRODID:-//ChamberMaster//Event Calendar 2.0//EN
METHOD:PUBLISH
X-PUBLISHED-TTL:P3D
REFRESH-INTERVAL:P3D
CALSCALE:GREGORIAN
BEGIN:VEVENT
DTSTART:20200422T153000Z
DTEND:20200422T170000Z
X-MICROSOFT-CDO-ALLDAYEVENT:FALSE
SUMMARY:Senator McGuire Zoom Town Hall Sausalito
DESCRIPTION:Guest Speaker:  Senator Mike McGuire\n\nThis event will be held via Zoom. This will be a Town Hall type meeting focusing on current events  and how we move forward.
X-ALT-DESC;FMTTYPE=text/html:Guest Speaker:&nbsp\; Senator Mike McGuire<br />\nThis event will be held via Zoom.&nbsp\;This will be a Town Hall type meeting focusing on current events&nbsp\; and how we move forward.
LOCATION:Questions will be moderated by Sausalito Chamber CEO & Senator McGuire's Staff.
UID:e.1780.2397
SEQUENCE:3
DTSTAMP:20260423T053542Z
URL:http://business.sausalito.org/events/details/senator-mcguire-zoom-town-hall-sausalito-2397
END:VEVENT

END:VCALENDAR
