BEGIN:VCALENDAR
VERSION:2.0
PRODID:-//ChamberMaster//Event Calendar 2.0//EN
METHOD:PUBLISH
X-PUBLISHED-TTL:P3D
REFRESH-INTERVAL:P3D
CALSCALE:GREGORIAN
BEGIN:VEVENT
DTSTART:20200529T163000Z
DTEND:20200529T173000Z
X-MICROSOFT-CDO-ALLDAYEVENT:FALSE
SUMMARY:Selling on eBay\, Etsy\, Poshmark\, Etc.
DESCRIPTION:Join us for the 4th Class on Selling On-line.  This is a grassroots effort by the Chamber to help more local businesses create an online presence.  We've has some great successes so join us and hear about those businesses who've joined the online movement and enhanced their brick & mortar retail.
X-ALT-DESC;FMTTYPE=text/html:Join us for the 4th Class on Selling On-line.&nbsp\; This is a grassroots effort by the Chamber to help more local businesses create an online presence.&nbsp\; We&#39\;ve has some great successes so join us and hear about those businesses who&#39\;ve joined the online movement and enhanced their brick &amp\; mortar retail.
LOCATION:Topic: Selling on eBay\, Etsy and other Online Sales Time: May 29\, 2020 09:30 AM Pacific Time (US and Canada) Join Zoom Meeting https://us02web.zoom.us/j/86727595555?pwd=OFNmbkplbVRWaXIwdmR2ZmE0UW9yQT09 Meeting ID: 867 2759 5555 Password: 285251 Dial by your location +1 669 900 6833 US (San Jose) +1 346 248 7799 US (Houston)
UID:e.1780.2401
SEQUENCE:3
DTSTAMP:20260423T042608Z
URL:http://business.sausalito.org/events/details/selling-on-ebay-etsy-poshmark-etc-2401
END:VEVENT

END:VCALENDAR
