BEGIN:VCALENDAR
VERSION:2.0
PRODID:-//ChamberMaster//Event Calendar 2.0//EN
METHOD:PUBLISH
X-PUBLISHED-TTL:P3D
REFRESH-INTERVAL:P3D
CALSCALE:GREGORIAN
BEGIN:VEVENT
DTSTART:20191117T030000Z
DTEND:20191117T053000Z
X-MICROSOFT-CDO-ALLDAYEVENT:FALSE
SUMMARY:Seaweed Soiree! an adult evening of seaweed\, science\, and art
DESCRIPTION:Learn about the secret lives of seaweeds and kelp forests from Dr. Karina Nielsen\, Director of Estuary Ocean Science Center and Professor of Biology at San Francisco State University. Enjoy the fine art photography and research of artist and author Josie Iselin\, whose work on marine algae explores the space where art and science converge. Farallones Kelp Recovery Coordinator Rietta Hohman will close the evening with a Q&A to discuss the efforts to address the decline of bull kelp forests along our coast. Tickets $20 Buy your tickets now! www.farallones.org/events/#register Two complimentary beverages included Age minimum 16\, space is limited Questions: sheintzelman@farallones.org Presented by Greater Farallones National Marine Sanctuary and Bay Model Visitor Center.
X-ALT-DESC;FMTTYPE=text/html:Learn about the secret lives of seaweeds and kelp forests from Dr. Karina Nielsen\, Director of Estuary Ocean Science Center and Professor of Biology at San Francisco State University. Enjoy the fine art photography and research of artist and author Josie Iselin\, whose work on marine algae explores the space where art and science converge. Farallones Kelp Recovery Coordinator Rietta Hohman will close the evening with a Q&amp\;A to discuss the efforts to address the decline of bull kelp forests along our coast. Tickets $20 Buy your tickets now! www.farallones.org/events/#register Two complimentary beverages included Age minimum 16\, space is limited Questions: sheintzelman@farallones.org Presented by Greater Farallones National Marine Sanctuary and Bay Model Visitor Center.
LOCATION:The Bay Model Visitor Center 2100 Bridgeway Sausalito\, CA 94965 Phone: (415) 289-3007 http://www.spn.usace.army.mil/Missions/Recreation/Bay-Model-Visitor-Center/
UID:e.1780.2239
SEQUENCE:3
DTSTAMP:20260423T125132Z
URL:http://business.sausalito.org/events/details/seaweed-soiree-an-adult-evening-of-seaweed-science-and-art-2239
END:VEVENT

END:VCALENDAR
