BEGIN:VCALENDAR
VERSION:2.0
PRODID:-//ChamberMaster//Event Calendar 2.0//EN
METHOD:PUBLISH
X-PUBLISHED-TTL:P3D
REFRESH-INTERVAL:P3D
CALSCALE:GREGORIAN
BEGIN:VEVENT
DTSTART;VALUE=DATE:20191018
DTEND;VALUE=DATE:20191020
TRANSP:TRANSPARENT
X-MICROSOFT-CDO-ALLDAYEVENT:TRUE
SUMMARY:Sea Trek Regatta - 37th Annual
DESCRIPTION:The annual Sea Trek Regatta is a chance for the Bay Area paddling community to share in a fun and challenging day of paddling on San Francisco Bay. Come join us on Saturday October 19th\, 2019 for the West Coast's largest\, most popular\, and definitely most fun sea kayaking event of the year. The Regatta is open to sea kayakers\, stand-up paddlers\, outriggers\, and other paddling crafts.\n\n\n\nThis years Sea Trek Regatta is a benefit for Environmental Traveling Companions (ETC)\, a Bay Area nonprofit organization providing accessible outdoor adventures for people with disabilities and disadvantaged youth since 1972.\n\nWith a variety of race classes and courses\, the Regatta is perfect for paddlers looking to race competitively as well as those who are just looking for a spirited paddling event to support a great cause!\n\nFull Schedule of Events\n\nRace starts at 10:15 am sharp. See event schedule for more details.
X-ALT-DESC;FMTTYPE=text/html:<p><span style="background-color: rgb(255\, 255\, 255)\;"><span style="text-align: justify\; color: rgb(0\, 0\, 0)\; font-family: &quot\;Libre Franklin&quot\;\, sans-serif\; font-size: 16px\;">The annual Sea Trek Regatta is a chance for the Bay Area paddling community to share in a fun and challenging day of paddling on San Francisco Bay. Come join us on Saturday October 19th\, 2019 for the West Coast&rsquo\;s largest\, most popular\, and definitely most fun sea kayaking event of the year. The Regatta is open to sea kayakers\, stand-up paddlers\, outriggers\, and other paddling crafts.</span></span></p>\n\n<p><br />\n<span style="background-color: rgb(255\, 255\, 255)\;"><span style="text-align: justify\; color: rgb(0\, 0\, 0)\; font-family: &quot\;Libre Franklin&quot\;\, sans-serif\; font-size: 16px\;">This years Sea Trek Regatta is a benefit for Environmental Traveling Companions (ETC)\, a Bay Area nonprofit organization providing accessible outdoor adventures for people with disabilities and disadvantaged youth since 1972.</span></span></p>\n\n<div><span style="text-align: justify\; color: rgb(0\, 0\, 0)\; font-family: &quot\;Libre Franklin&quot\;\, sans-serif\; font-size: 16px\;">With a variety of race classes and courses\, the Regatta is perfect for paddlers looking to race competitively as well as those who are just looking for a spirited paddling event to support a great cause!</span></div>\n\n<p><a href="https://paddleguru.com/races/37thAnnualSeaTrekRegatta2019/schedule"><strong><span style="font-size:16px\;">Full Schedule of Events</span></strong></a></p>\n\n<p><span style="font-size:16px\;"><strong>Race starts at 10:15 am sharp. See event schedule for more details.</strong></span></p>\n
LOCATION:Sea Trek (at the Bay Model) 2100 Bridgeway Sausalito\, CA
UID:e.1780.2028
SEQUENCE:3
DTSTAMP:20260423T154004Z
URL:http://business.sausalito.org/events/details/sea-trek-regatta-37th-annual-2028
END:VEVENT

END:VCALENDAR
