BEGIN:VCALENDAR
VERSION:2.0
PRODID:-//ChamberMaster//Event Calendar 2.0//EN
METHOD:PUBLISH
X-PUBLISHED-TTL:P3D
REFRESH-INTERVAL:P3D
CALSCALE:GREGORIAN
BEGIN:VEVENT
DTSTART;VALUE=DATE:20211023
DTEND;VALUE=DATE:20211024
TRANSP:TRANSPARENT
X-MICROSOFT-CDO-ALLDAYEVENT:TRUE
SUMMARY:Sea Trek 39th Annual Regatta
DESCRIPTION:The annual Sea Trek Regatta is a chance for the Bay Area paddling community to share in a fun and challenging day paddling on the San Francisco Bay. Come join us on Saturday October 23rd 2021 for the most fun sea kayaking event of the year.\n\n\n\nThe Regatta is open to people of all abilities\, sea kayakers\, stand-up paddlers\, outriggers\, and other paddling crafts.  This year's Sea Trek Regatta is a benefit for Environmental Traveling Companions (ETC)\, a Bay Area nonprofit organization that has been providing accessible outdoor adventures for people with disabilities and under-resourced youth since 1972. \n\n\n\nWith a variety of race classes and courses\, the Regatta is perfect for paddlers looking to race competitively as well as those who are just looking for a spirited paddling event to support a great cause!
X-ALT-DESC;FMTTYPE=text/html:The annual Sea Trek Regatta is a chance for the Bay Area paddling community to share in a fun and challenging day paddling on the San Francisco Bay. Come join us on Saturday October 23rd 2021 for the most fun sea kayaking event of the year.<br />\n<br />\nThe Regatta is open to people of all abilities\, sea kayakers\, stand-up paddlers\, outriggers\, and other paddling crafts.&nbsp\; This year&rsquo\;s Sea Trek Regatta is a benefit for Environmental Traveling Companions (ETC)\, a Bay Area nonprofit organization that has been providing accessible outdoor adventures for people with disabilities and under-resourced youth since 1972.&nbsp\;<br />\n<br />\nWith a variety of race classes and courses\, the Regatta is perfect for paddlers looking to race competitively as well as those who are just looking for a spirited paddling event to support a great cause!&nbsp\;&nbsp\;&nbsp\;
LOCATION:October 23\, 2021 2100 Marinship Way (Bay Model) Sausalito\, CA 94965
UID:e.1780.3052
SEQUENCE:3
DTSTAMP:20260422T020636Z
URL:http://business.sausalito.org/events/details/sea-trek-39th-annual-regatta-3052
END:VEVENT

END:VCALENDAR
