BEGIN:VCALENDAR
VERSION:2.0
PRODID:-//ChamberMaster//Event Calendar 2.0//EN
METHOD:PUBLISH
X-PUBLISHED-TTL:P3D
REFRESH-INTERVAL:P3D
CALSCALE:GREGORIAN
BEGIN:VEVENT
DTSTART:20200211T170000Z
DTEND:20200211T183000Z
X-MICROSOFT-CDO-ALLDAYEVENT:FALSE
SUMMARY:SCOC Business Exchange @ Angelino Restaurant
DESCRIPTION:Sausalito Chamber of Commerce February Business Exchange with speaker Mayor Susan Cleveland-Knowles
X-ALT-DESC;FMTTYPE=text/html:Sausalito Chamber of Commerce February Business Exchange with speaker Mayor Susan Cleveland-Knowles&nbsp\;
LOCATION:Angelino Restaurant\, 621 Bridgeway
UID:e.1780.2369
SEQUENCE:3
DTSTAMP:20260423T082332Z
URL:http://business.sausalito.org/events/details/scoc-business-exchange-angelino-restaurant-2369
END:VEVENT

END:VCALENDAR
