BEGIN:VCALENDAR
VERSION:2.0
PRODID:-//ChamberMaster//Event Calendar 2.0//EN
METHOD:PUBLISH
X-PUBLISHED-TTL:P3D
REFRESH-INTERVAL:P3D
CALSCALE:GREGORIAN
BEGIN:VEVENT
DTSTART:20190127T183000Z
DTEND:20190128T003000Z
X-MICROSOFT-CDO-ALLDAYEVENT:FALSE
SUMMARY:SCBC Herring Celebration!
DESCRIPTION:SCBC at Cass Gidley Marina
X-ALT-DESC;FMTTYPE=text/html:<a aria-describedby="u_3v_1" aria-owns="js_1aa" class="_5xhk" data-hovercard="/ajax/hovercard/page.php?id=167282739976068&amp\;extragetparams=%7B%22eid%22%3A%22ARCnpYUYEz7UMPSm2lSXiGLZWUGAhm6CAzxrohsBwxzgNJN1digHepjjL9B62HYNvodjd_5x-xUssGmE%22%7D" data-hovercard-prefer-more-content-show="1" href="https://www.facebook.com/SCBCatCassGidley/?eid=ARCnpYUYEz7UMPSm2lSXiGLZWUGAhm6CAzxrohsBwxzgNJN1digHepjjL9B62HYNvodjd_5x-xUssGmE" id="u_jsonp_9_m">SCBC at Cass Gidley Marina</a>
LOCATION:The 5th Annual Herring Celebration\, hosted by the Bay Model in Sausalito\, will feature two screenings of "Blue Serengeti"\, live music and a herring inspired lunch by some of Sausalito's finest restaurateurs. Tickets are $40 for the Film and Herring Plate Lunch. Beverages are $5. Supporters have a choice of two screenings for "Blue Serengeti": Ticket #A 11:00am Screening + 1:00p Herring Lunch (Doors open at 10:30) Ticket #B 1:00p Herring Lunch + 2:30 Screening (Doors open at 1:00) "Blue Serengeti" is a documentary that tracks the largest migration on earth under the waters of our coast. With breakthrough camera and tracking technology\, Dr. Barbara Block helps reveal one of the sharkiest places on earth and the rich eco system that supports them. She calls this first-hand portrait of a formerly unseen domain\, "Blue Serengeti". The event will also include a brief presentation on the SCBC at Cass Gidley Marina project\, live music\, and delicious herring dishes presented by Sausalito restaurants. As always\, should our silvery little friends not arrive to our local waters on time (they love to keep us in suspense)\, local chefs will provide equally delectable bites.
UID:e.1780.1903
SEQUENCE:3
DTSTAMP:20260424T051127Z
URL:http://business.sausalito.org/events/details/scbc-herring-celebration-1903
END:VEVENT

END:VCALENDAR
