BEGIN:VCALENDAR
VERSION:2.0
PRODID:-//ChamberMaster//Event Calendar 2.0//EN
METHOD:PUBLISH
X-PUBLISHED-TTL:P3D
REFRESH-INTERVAL:P3D
CALSCALE:GREGORIAN
BEGIN:VEVENT
DTSTART:20180930T200000Z
DTEND:20181001T030000Z
X-MICROSOFT-CDO-ALLDAYEVENT:FALSE
SUMMARY:Sausalito Wine Experience
DESCRIPTION:Sausalito Wine Experience #2 is designed to featured fine Napa/Sonoma wines plus food from several Sausalito fine restaraunts. THe beneficiary of the funds is the Sister Cities program. The website has all the details: www.sausalitowineexperience.org
X-ALT-DESC;FMTTYPE=text/html:Sausalito Wine Experience #2 is designed to featured fine Napa/Sonoma wines plus food from several Sausalito fine restaraunts. THe beneficiary of the funds is the Sister Cities program. The website has all the details: www.sausalitowineexperience.org
LOCATION:Casa Madrona in the stunning Alexandrite Suite
UID:e.1780.1812
SEQUENCE:3
DTSTAMP:20260424T131732Z
URL:http://business.sausalito.org/events/details/sausalito-wine-experience-1812
END:VEVENT

END:VCALENDAR
