BEGIN:VCALENDAR
VERSION:2.0
PRODID:-//ChamberMaster//Event Calendar 2.0//EN
METHOD:PUBLISH
X-PUBLISHED-TTL:P3D
REFRESH-INTERVAL:P3D
CALSCALE:GREGORIAN
BEGIN:VEVENT
DTSTART:20180512T170000Z
DTEND:20180512T220000Z
X-MICROSOFT-CDO-ALLDAYEVENT:FALSE
SUMMARY:Sausalito Wag Dog Festival
DESCRIPTION:The City of Sausalito Parks and Recreation Department presents their second dog festival: Sausalito WAG. Sponsored by Dogtrekker\, Best Friends Pet Supply\, and Canine Cove\, this event is sure to be a hit for both two and four legged attendees. It's free to the public and there will be plenty to keep everyone busy and entertained. There are dog-related vendors\, rescues\, non-profits\, and food and beverages. The Marin Humane Society\, and Family Dog Rescue will be holding adoptions.\n\n\n\nA dog show will commence with the categories of: Best Costume (10:30am)\, Best Wag (11am)\, Best Trick (11:30am)\, Best Owner/Dog Look-a-like (1pm)\, Best Bark (1:30pm)\, and Best Body Part (2pm). At 12\;00 p.m. there will be a police dog demonstration by the Novato Police Department. Vendors have contributed to a raffle and tickets are only $1. It's free to all humans and dogs alike and is sure to be a dog gone good time!
X-ALT-DESC;FMTTYPE=text/html:<span style="color: rgb(4\, 4\, 4)\;">The City of Sausalito Parks and Recreation Department presents their second dog festival: Sausalito WAG. Sponsored by Dogtrekker\, Best Friends Pet Supply\, and Canine Cove\, this event is sure to be a hit for both two and four legged attendees. It&rsquo\;s free to the public and there will be plenty to keep everyone busy and entertained. There are dog-related vendors\, rescues\, non-profits\, and food and beverages. The Marin Humane Society\, and Family Dog Rescue will be holding adoptions.<br />\n<br />\nA dog show will commence with the categories of: Best Costume (10:30am)\, Best Wag (11am)\, Best Trick (11:30am)\, Best Owner/Dog Look-a-like (1pm)\, Best Bark (1:30pm)\, and Best Body Part (2pm). At 12\;00 p.m. there will be a police dog demonstration by the Novato Police Department. Vendors have contributed to a raffle and tickets are only $1. It&rsquo\;s free to all humans and dogs alike and is sure to be a dog gone good time!</span><br />\n&nbsp\;
LOCATION:Sausalito WAG Dog Festival Marinship Park Saturday\, May 12\, 2018 from 10:00 am - 3:00 pm
UID:e.1780.1801
SEQUENCE:3
DTSTAMP:20260424T194913Z
URL:http://business.sausalito.org/events/details/sausalito-wag-dog-festival-1801
END:VEVENT

END:VCALENDAR
