BEGIN:VCALENDAR
VERSION:2.0
PRODID:-//ChamberMaster//Event Calendar 2.0//EN
METHOD:PUBLISH
X-PUBLISHED-TTL:P3D
REFRESH-INTERVAL:P3D
CALSCALE:GREGORIAN
BEGIN:VEVENT
DTSTART:20190511T170000Z
DTEND:20190511T220000Z
X-MICROSOFT-CDO-ALLDAYEVENT:FALSE
SUMMARY:Sausalito WAG
DESCRIPTION:The City of Sausalito Parks and Recreation Department presents Sausalito's WAG Festival Sponsored by Dogtrekker\, Best Friends Pet Supply\, and Canine Cove\, this event is sure to be a hit for both two and four legged attendees. It's free to the public and there will be plenty to keep everyone busy and entertained. There are dog-related vendors\, food and beverages. A dog show will commence with the categories of: Best Costume (10:30am)\, Best Wag (11am)\, Best Trick (11:30am)\, Best Owner/Dog Look-a-like (1pm)\, Best Bark (1:30pm)\, and Best Body Part (2pm). At 12:00 p.m. there will be a police dog demonstration by the Novato Police Department. Vendors have contributed to a raffle and tickets are only $1. It's free to all humans and dogs alike and is sure to be a dog gone good time!
X-ALT-DESC;FMTTYPE=text/html:The City of Sausalito Parks and Recreation Department presents Sausalito&rsquo\;s WAG Festival Sponsored by Dogtrekker\, Best Friends Pet Supply\, and Canine Cove\, this event is sure to be a hit for both two and four legged attendees. It&rsquo\;s free to the public and there will be plenty to keep everyone busy and entertained. There are dog-related vendors\, food and beverages. A dog show will commence with the categories of: Best Costume (10:30am)\, Best Wag (11am)\, Best Trick (11:30am)\, Best Owner/Dog Look-a-like (1pm)\, Best Bark (1:30pm)\, and Best Body Part (2pm). At 12:00 p.m. there will be a police dog demonstration by the Novato Police Department. Vendors have contributed to a raffle and tickets are only $1. It&rsquo\;s free to all humans and dogs alike and is sure to be a dog gone good time!
LOCATION:Gabrielson Park Sausalito
UID:e.1780.1924
SEQUENCE:3
DTSTAMP:20260423T221020Z
URL:http://business.sausalito.org/events/details/sausalito-wag-1924
END:VEVENT

END:VCALENDAR
