BEGIN:VCALENDAR
VERSION:2.0
PRODID:-//ChamberMaster//Event Calendar 2.0//EN
METHOD:PUBLISH
X-PUBLISHED-TTL:P3D
REFRESH-INTERVAL:P3D
CALSCALE:GREGORIAN
BEGIN:VEVENT
DTSTART:20191104T020000Z
DTEND:20191104T040000Z
X-MICROSOFT-CDO-ALLDAYEVENT:FALSE
SUMMARY:Sausalito Village Art Exhibit
DESCRIPTION:Celebrating the artists and authors of Sausalito Village
X-ALT-DESC;FMTTYPE=text/html:Celebrating the artists and authors of Sausalito Village
LOCATION:Sausalito Library - 420 Litho Street
UID:e.1780.2195
SEQUENCE:3
DTSTAMP:20260423T124436Z
URL:http://business.sausalito.org/events/details/sausalito-village-art-exhibit-2195
END:VEVENT

END:VCALENDAR
