BEGIN:VCALENDAR
VERSION:2.0
PRODID:-//ChamberMaster//Event Calendar 2.0//EN
METHOD:PUBLISH
X-PUBLISHED-TTL:P3D
REFRESH-INTERVAL:P3D
CALSCALE:GREGORIAN
BEGIN:VEVENT
DTSTART:20190427T160000Z
DTEND:20190427T210000Z
X-MICROSOFT-CDO-ALLDAYEVENT:FALSE
SUMMARY:Sausalito's City Wide Yard Sale
DESCRIPTION:The City of Sausalito's bi-annual yard sale has over 90 sale booths in one location. Admission is free! This is a great place to find treasures at affordable prices. Come by to shop for a treasure or two. Check out www.sausalitoyardsale.com for more information.
X-ALT-DESC;FMTTYPE=text/html:The City of Sausalito&rsquo\;s bi-annual yard sale has over 90 sale booths in one location. Admission is free! This is a great place to find treasures at affordable prices. Come by to shop for a treasure or two. Check out www.sausalitoyardsale.com for more information.
LOCATION:MLK Parking Lot 610 Coloma Street Sausalito CA 94965
UID:e.1780.1923
SEQUENCE:3
DTSTAMP:20260423T235216Z
URL:http://business.sausalito.org/events/details/sausalito-s-city-wide-yard-sale-1923
END:VEVENT

END:VCALENDAR
