BEGIN:VCALENDAR
VERSION:2.0
PRODID:-//ChamberMaster//Event Calendar 2.0//EN
METHOD:PUBLISH
X-PUBLISHED-TTL:P3D
REFRESH-INTERVAL:P3D
CALSCALE:GREGORIAN
BEGIN:VEVENT
DTSTART:20180819T210000Z
DTEND:20180819T230000Z
X-MICROSOFT-CDO-ALLDAYEVENT:FALSE
SUMMARY:Sausalito's Arias in the Afternoon
DESCRIPTION:Arias in the Afternoon brings the San Francisco Opera to Gabrielson Park in Sausalito for a free 2-hour program from 2:00 PM to 4:00 PM. The Arques Charitable Education Trust graciously sponsors this event. So\, come enjoy the San Francisco Opera in the beautiful and picturesque setting of Gabrielson Park on Richardson's Bay in Sausalito. The program is designed specifically for us by the San Francisco Opera and is sure to be a crowd pleaser. Reserved V.I.P. tables are on sale. These pre-set tables will include 6 seats and chilled champagne\, chocolate and fresh strawberries. Tables cost $75 for residents and $85 for non-residents. To reserved tables please call 415-289-4152. There is also free grass seating as well.
X-ALT-DESC;FMTTYPE=text/html:Arias in the Afternoon brings the San Francisco Opera to Gabrielson Park in Sausalito for a free 2-hour program from 2:00 PM to 4:00 PM. The Arques Charitable Education Trust graciously sponsors this event. So\, come enjoy the San Francisco Opera in the beautiful and picturesque setting of Gabrielson Park on Richardson&rsquo\;s Bay in Sausalito. The program is designed specifically for us by the San Francisco Opera and is sure to be a crowd pleaser. Reserved V.I.P. tables are on sale. These pre-set tables will include 6 seats and chilled champagne\, chocolate and fresh strawberries. Tables cost $75 for residents and $85 for non-residents. To reserved tables please call 415-289-4152. There is also free grass seating as well.
LOCATION:Gabrielson Park
UID:e.1780.1809
SEQUENCE:3
DTSTAMP:20260424T150736Z
URL:http://business.sausalito.org/events/details/sausalito-s-arias-in-the-afternoon-1809
END:VEVENT

END:VCALENDAR
