BEGIN:VCALENDAR
VERSION:2.0
PRODID:-//ChamberMaster//Event Calendar 2.0//EN
METHOD:PUBLISH
X-PUBLISHED-TTL:P3D
REFRESH-INTERVAL:P3D
CALSCALE:GREGORIAN
BEGIN:VEVENT
DTSTART:20190331T003000Z
DTEND:20190331T050000Z
X-MICROSOFT-CDO-ALLDAYEVENT:FALSE
SUMMARY:Sausalito Rotary Global Groove Gala
DESCRIPTION:Rotary Club of Sausalito Charitable Foundation presents\n\nAn Evening of Cocktails\, Dinner\, Live Auction & Raffle\n\nbenefiting:\n\n  Sausalito Sister Cities\n\n  Rotary Senior Housing\n\n  Rotary Educational Trust &\n\n  Rotary International Humanitarian Efforts\n\n\n\nCelebrate & Become a Sponsor!\n\n\n\nCall: 415-331-6466\n\nBuy: www.SausalitoRotaryGala.org\n\n	\n	$125 p/p (Early bird ticket pricing until 2/15/19)\n	\n	$150 thereafter\n\nBecome a sponsor and support our efforts! \n\n\n\nRotary Club of Sausalito Charitable Foundation\, Inc. is a 501(C)3 public benefit corporation.
X-ALT-DESC;FMTTYPE=text/html:<span>Rotary Club of Sausalito Charitable Foundation presents<br />\nAn Evening of Cocktails\, Dinner\, Live Auction &amp\; Raffle<br />\nbenefiting:<br />\n&bull\; Sausalito Sister Cities<br />\n&bull\; Rotary Senior Housing<br />\n&bull\; Rotary Educational Trust &amp\;<br />\n&bull\; Rotary International Humanitarian Efforts<br />\n<br />\nCelebrate &amp\; Become a Sponsor!<br />\n<br />\nCall: 415-331-6466<br />\nBuy: <a href="https://rotaryhousecorp.ejoinme.org/MyEvents/RotaryGala2019/PurchaseTickets/tabid/1027292/Default.aspx">www.SausalitoRotaryGala.org</a></span>\n<ul>\n	<li>\n	<p>$125 p/p (Early bird ticket pricing until 2/15/19)</p>\n	</li>\n	<li><span>$150 thereafter</span></li>\n</ul>\n<strong><a href="https://rotaryhousecorp.ejoinme.org/MyEvents/RotaryGala2019/EventSponsorship/tabid/1027285/Default.aspx"><span style="color:#0000FF\;">Become a sponsor and support our efforts! </span></a></strong><br />\n<br />\n<em><span>Rotary Club of Sausalito Charitable Foundation\, Inc. is a 501(C)3 public benefit corporation.</span></em>
LOCATION:The Spinnaker 100 Spinnaker Drive Sausalito
UID:e.1780.1909
SEQUENCE:3
DTSTAMP:20260424T011817Z
URL:http://business.sausalito.org/events/details/sausalito-rotary-global-groove-gala-1909
END:VEVENT

END:VCALENDAR
