BEGIN:VCALENDAR
VERSION:2.0
PRODID:-//ChamberMaster//Event Calendar 2.0//EN
METHOD:PUBLISH
X-PUBLISHED-TTL:P3D
REFRESH-INTERVAL:P3D
CALSCALE:GREGORIAN
BEGIN:VEVENT
DTSTART:20181216T200000Z
DTEND:20181217T010000Z
X-MICROSOFT-CDO-ALLDAYEVENT:FALSE
SUMMARY:Sausalito Pottery Open Studio
DESCRIPTION:17th Annual Holiday Open Studio
X-ALT-DESC;FMTTYPE=text/html:17th Annual Holiday Open Studio
LOCATION:610 Coloma St. Sausalito\, CA 94965
UID:e.1780.1899
SEQUENCE:3
DTSTAMP:20260424T072334Z
URL:http://business.sausalito.org/events/details/sausalito-pottery-open-studio-12-16-2018-1899
END:VEVENT

END:VCALENDAR
