BEGIN:VCALENDAR
VERSION:2.0
PRODID:-//ChamberMaster//Event Calendar 2.0//EN
METHOD:PUBLISH
X-PUBLISHED-TTL:P3D
REFRESH-INTERVAL:P3D
CALSCALE:GREGORIAN
BEGIN:VEVENT
DTSTART:20220225T013000Z
DTEND:20220225T040000Z
X-MICROSOFT-CDO-ALLDAYEVENT:FALSE
SUMMARY:Sausalito Herring Festival & Celebration
DESCRIPTION:9th Annual Sausalito Herring Festival Celebration & Fundraiser\n\n\n\n\nThursday\, February 24th\n\n5:30 6:00pm Cocktails\n\n6:00-8:00pm Dinner\n\nThis year we will be hosting a hybrid live AND virtual event for the Sausalito Community Boating Center at Cass Gidley Marina. Live event will be held at the Spinnaker Banquet Room. Virtual option is available as well.\n\nBrad Barton\, Reality Thief will be sharing his magic and mentalism while hosting our evening focused on sustainable fish delights from local restaurants\, cooking demonstrations\, exciting project updates\, our popular fundraising offerings and more.\n\nTickets will be limited to ensure social distancing but folks far and wide will be able to join the celebration online. Contact info@cassgidley.org \n\nBUY TICKETS | SILENT AUCTION ITEMS
X-ALT-DESC;FMTTYPE=text/html:<div>\n<div>\n<div>\n<h3 style="text-align: center\;"><strong>9th Annual Sausalito Herring Festival Celebration &amp\; Fundraiser</strong></h3>\n</div>\n</div>\n</div>\n\n<h3 style="text-align: center\;"><strong>Thursday\, February 24th</strong></h3>\n\n<h3 style="text-align: center\;"><strong>5:30&ndash\;6:00pm Cocktails<br />\n6:00-8:00pm Dinner</strong></h3>\n\n<p style="text-align: center\;">This year we will be hosting a hybrid live AND virtual event for the <a href="http://cassgidley.org/" target="_blank">Sausalito Community Boating Center</a> at Cass Gidley Marina. Live event will be held at the Spinnaker Banquet Room. Virtual option is available as well.</p>\n\n<p style="text-align: center\;">Brad Barton\, Reality Thief will be sharing his magic and mentalism while hosting our evening focused on sustainable fish delights from local restaurants\, cooking demonstrations\, exciting project updates\, our popular fundraising offerings and more.</p>\n\n<p style="text-align: center\;">Tickets will be limited to ensure social distancing but folks far and wide will be able to join the celebration online. Contact <a href="https://visitsausalito.org/events/info@cassgidley.org">info@cassgidley.org</a>&#8203\;</p>\n\n<p style="text-align: center\;"><a href="https://scbc.betterworld.org/events/scbc-herring-festival">BUY TICKETS</a> | <a href="https://scbc.betterworld.org/auctions/2022-herring-festival-silent-auc">SILENT AUCTION ITEMS</a></p>\n
LOCATION:This year we will be hosting a hybrid live AND virtual event for the Sausalito Community Boating Center at Cass Gidley Marina. Live event will be held at the Spinnaker Banquet Room. Virtual option is available as well. Live Cooking Demonstrations by: Angelino\, California Caviar\, Davey Jones Deli\, Liquid Events and The Spinnaker. Live Music by The Hot Clams and hosted by The Reality Thief\, Brad Barton An event not to be missed!
UID:e.1780.3484
SEQUENCE:3
DTSTAMP:20260421T190736Z
URL:http://business.sausalito.org/events/details/sausalito-herring-festival-celebration-3484
END:VEVENT

END:VCALENDAR
