BEGIN:VCALENDAR
VERSION:2.0
PRODID:-//ChamberMaster//Event Calendar 2.0//EN
METHOD:PUBLISH
X-PUBLISHED-TTL:P3D
REFRESH-INTERVAL:P3D
CALSCALE:GREGORIAN
BEGIN:VEVENT
DTSTART;VALUE=DATE:20200126
DTEND;VALUE=DATE:20200127
TRANSP:TRANSPARENT
X-MICROSOFT-CDO-ALLDAYEVENT:TRUE
SUMMARY:Sausalito Herring Festival
DESCRIPTION:Herring Celebration and Fundraiser. This year's Sausalito Herring Celebration is a lunch and film-screening fundraiser for the Sausalito Community Boating Center at Cass Gidley Marina.
X-ALT-DESC;FMTTYPE=text/html:<strong>Herring Celebration and Fundraiser.</strong> This year&#39\;s Sausalito Herring Celebration is a lunch and film-screening fundraiser for the <a href="http://cassgidley.org/" style="-ms-text-size-adjust:100%\;-webkit-text-size-adjust:100%\;color:#336699\;font-weight:normal\;text-decoration:underline\;" target="_blank">Sausalito Community Boating Center</a> at Cass Gidley Marina.<br />\n&nbsp\;
LOCATION:Sunday\, January 26 Bay Model\, 2100 Bridgeway
UID:e.1780.2355
SEQUENCE:3
DTSTAMP:20260423T095035Z
URL:http://business.sausalito.org/events/details/sausalito-herring-festival-2355
END:VEVENT

END:VCALENDAR
