BEGIN:VCALENDAR
VERSION:2.0
PRODID:-//ChamberMaster//Event Calendar 2.0//EN
METHOD:PUBLISH
X-PUBLISHED-TTL:P3D
REFRESH-INTERVAL:P3D
CALSCALE:GREGORIAN
BEGIN:VEVENT
DTSTART;VALUE=DATE:20191201
DTEND;VALUE=DATE:20200101
TRANSP:TRANSPARENT
X-MICROSOFT-CDO-ALLDAYEVENT:TRUE
SUMMARY:Sausalito Gingerbread House Tour
DESCRIPTION:13th Annual Gingerbread House Competition & Tour\n\nWe hope you were able to take the walking Tour of the houses on display throughout Sausalito during the month of December! Maps also available to download\n\n\n\nView previous Gingerbread House Tour by Susan Sternau.
X-ALT-DESC;FMTTYPE=text/html:<span style="font-size:16px\;"><strong><em><span style="color:firebrick\;"><span style="font-family:arial\;">13th Annual Gingerbread House Competition &amp\; Tour</span></span></em></strong><br />\n<span style="font-family:arial\;">We hope you were able to take the walking Tour of the houses on display throughout Sausalito during the month of December! <a href="https://www.sausalito.org/gingerbread-house-tour">Maps also available to download</a><br />\n<br />\n<a href="https://picasaweb.google.com/101472293008754052219/7thAnnualSausalitChamberOfCommerceGingerbreadHouseCompetitionTour?authuser=0&amp\;feat=directlink">View previous Gingerbread House Tour by Susan Sternau. </a></span></span>
LOCATION:Businesses throughout Sausalito create amazing Gingerbread Houses. Maps are available at the Visitor Information Kiosk located by the Sausalito Ferry Landing on-line at Sausalito.org. Look for window signage indicating a Participants. Full list of participants here.
UID:e.1780.2029
SEQUENCE:3
DTSTAMP:20260423T110926Z
URL:http://business.sausalito.org/events/details/sausalito-gingerbread-house-tour-2029
END:VEVENT

END:VCALENDAR
