BEGIN:VCALENDAR
VERSION:2.0
PRODID:-//ChamberMaster//Event Calendar 2.0//EN
METHOD:PUBLISH
X-PUBLISHED-TTL:P3D
REFRESH-INTERVAL:P3D
CALSCALE:GREGORIAN
BEGIN:VEVENT
DTSTART:20181010T020000Z
DTEND:20181010T040000Z
X-MICROSOFT-CDO-ALLDAYEVENT:FALSE
SUMMARY:Sausalito General Plan Update
DESCRIPTION:Sausalito General Plan Update\n\n			CITY COUNCIL MEETING\n			\n			\n			\n		\n	\n\n\n\n\n\n	\n		\n			\n			At the City Council's regular meeting\,\n\n			\n			\n			M-Group will provide the City Council with the final Comprehensive Existing Conditions Report and present the Draft General Plan Community Goals as defined by the General Plan Advisory Committee at the Committee's meeting on September 4\, 2018. City Staff\, the GPAC\, and M-Group will also seek direction from the Council on the preferred approach to plan for the Marinship in the General Plan Update process.
X-ALT-DESC;FMTTYPE=text/html:<div class="gl-contains-text" style="color: rgb(0\, 0\, 0)\; font-family: -webkit-standard\; font-style: normal\; font-variant-caps: normal\; font-weight: normal\; letter-spacing: normal\; orphans: auto\; text-align: -webkit-left\; text-indent: 0px\; text-transform: none\; white-space: normal\; widows: auto\; word-spacing: 0px\; -webkit-text-size-adjust: auto\; -webkit-text-stroke-width: 0px\; background-color: rgb(255\, 255\, 255)\;">\n<table border="0" cellpadding="0" cellspacing="0" style="border-collapse: collapse\; table-layout: fixed\;" width="100%">\n	<tbody>\n		<tr>\n			<td align="left" class="editor-text feature-heading-text" style="-webkit-font-smoothing: antialiased\; font-family: Arial\, Verdana\, Helvetica\, sans-serif\; font-size: 16px\; color: rgb(10\, 116\, 219)\; text-align: left\; display: block\; word-wrap: break-word\; font-weight: bold\; padding: 10px 20px 10px 10px\;" valign="top">\n			<div class="text-container galileo-ap-content-editor">\n			<div>\n			<div align="center" style="text-align: center\;">Sausalito General Plan Update</div>\n\n			<div align="center" style="text-align: center\;"><span style="font-size: 14px\; color: rgb(2\, 2\, 2)\; font-weight: bold\;">CITY COUNCIL MEETING</span></div>\n			</div>\n			</div>\n			</td>\n		</tr>\n	</tbody>\n</table>\n</div>\n\n<div class="gl-contains-text" style="color: rgb(0\, 0\, 0)\; font-family: -webkit-standard\; font-style: normal\; font-variant-caps: normal\; font-weight: normal\; letter-spacing: normal\; orphans: auto\; text-align: -webkit-left\; text-indent: 0px\; text-transform: none\; white-space: normal\; widows: auto\; word-spacing: 0px\; -webkit-text-size-adjust: auto\; -webkit-text-stroke-width: 0px\; background-color: rgb(255\, 255\, 255)\;">\n<table border="0" cellpadding="0" cellspacing="0" style="border-collapse: collapse\; table-layout: fixed\;" width="100%">\n	<tbody>\n		<tr>\n			<td align="left" class="editor-text feature-text" style="-webkit-font-smoothing: antialiased\; font-family: Arial\, Verdana\, Helvetica\, sans-serif\; font-size: 12px\; color: rgb(2\, 2\, 2)\; text-align: left\; display: block\; word-wrap: break-word\; padding: 10px 20px 10px 10px\;" valign="top">\n			<div><span style="font-size: 14px\; color: rgb(0\, 0\, 0)\;">At the City Council&#39\;s regular meeting\,</span></div>\n\n			<div class="text-container galileo-ap-content-editor">\n			<div>\n			<div><span style="font-size: 14px\; color: rgb(0\, 0\, 0)\;">M-Group will provide the City Council with the final Comprehensive Existing Conditions Report and present the Draft General Plan Community Goals as defined by the General Plan Advisory Committee at the Committee&rsquo\;s meeting on September 4\, 2018. City Staff\, the GPAC\, and M-Group will also seek direction from the Council on the preferred approach to plan for the Marinship in the General Plan Update process.&nbsp\;</span></div>\n			</div>\n			</div>\n			</td>\n		</tr>\n	</tbody>\n</table>\n</div>\n
LOCATION:City Hall Council Chambers 420 Litho Street Sausalito\, CA 94965
UID:e.1780.1848
SEQUENCE:3
DTSTAMP:20260424T111206Z
URL:http://business.sausalito.org/events/details/sausalito-general-plan-update-1848
END:VEVENT

END:VCALENDAR
