BEGIN:VCALENDAR
VERSION:2.0
PRODID:-//ChamberMaster//Event Calendar 2.0//EN
METHOD:PUBLISH
X-PUBLISHED-TTL:P3D
REFRESH-INTERVAL:P3D
CALSCALE:GREGORIAN
BEGIN:VEVENT
DTSTART:20180511T183000Z
DTEND:20180511T220000Z
X-MICROSOFT-CDO-ALLDAYEVENT:FALSE
SUMMARY:Sausalito Food Tour - Caledonia Street
DESCRIPTION:2 for the price of 1 for our maiden voyage kick off of our Caledonia Street Food Tour $69 includes all food on this guided\, walking food tour of Sausalito's original Main Street. Tour repeats at regular price of $69 on every Saturday and Thursday on going.
X-ALT-DESC;FMTTYPE=text/html:2 for the price of 1 for our maiden voyage kick off of our Caledonia Street Food Tour $69 includes all food on this guided\, walking food tour of Sausalito&#39\;s original Main Street. Tour repeats at regular price of $69 on every Saturday and Thursday on going.
LOCATION:Firehouse Coffee & Tea
UID:e.1780.1789
SEQUENCE:3
DTSTAMP:20260424T195032Z
URL:http://business.sausalito.org/events/details/sausalito-food-tour-caledonia-street-1789
END:VEVENT

END:VCALENDAR
