BEGIN:VCALENDAR
VERSION:2.0
PRODID:-//ChamberMaster//Event Calendar 2.0//EN
METHOD:PUBLISH
X-PUBLISHED-TTL:P3D
REFRESH-INTERVAL:P3D
CALSCALE:GREGORIAN
BEGIN:VEVENT
DTSTART;VALUE=DATE:20190928
DTEND;VALUE=DATE:20190930
TRANSP:TRANSPARENT
X-MICROSOFT-CDO-ALLDAYEVENT:TRUE
SUMMARY:Sausalito Film Festival
DESCRIPTION:September 28 & September 29\, 2019\n\nCavallo PointThe Callippe Theater\n\nSausalito Film Festival
X-ALT-DESC;FMTTYPE=text/html:<span style="font-size:20px\;"><span style="caret-color: rgb(32\, 32\, 32)\; color: rgb(32\, 32\, 32)\; font-family: Helvetica\; font-style: normal\; font-variant-caps: normal\; font-weight: normal\; letter-spacing: normal\; text-align: center\; text-indent: 0px\; text-transform: none\; white-space: normal\; word-spacing: 0px\; -moz-text-size-adjust: auto\; -webkit-text-stroke-width: 0px\; text-decoration: none\;">September 28&nbsp\;&amp\; September&nbsp\;29\, 2019<br />\nCavallo PointThe Callippe Theater</span><br style="caret-color: rgb(32\, 32\, 32)\; color: rgb(32\, 32\, 32)\; font-family: Helvetica\; font-size: 16px\; font-style: normal\; font-variant-caps: normal\; font-weight: normal\; letter-spacing: normal\; orphans: auto\; text-align: center\; text-indent: 0px\; text-transform: none\; white-space: normal\; widows: auto\; word-spacing: 0px\; -webkit-text-size-adjust: auto\; -webkit-text-stroke-width: 0px\; text-decoration: none\;" />\n<strong style="caret-color: rgb(32\, 32\, 32)\; color: rgb(32\, 32\, 32)\; font-family: Helvetica\; font-size: 16px\; font-style: normal\; font-variant-caps: normal\; letter-spacing: normal\; orphans: auto\; text-align: center\; text-indent: 0px\; text-transform: none\; white-space: normal\; widows: auto\; word-spacing: 0px\; -webkit-text-size-adjust: auto\; -webkit-text-stroke-width: 0px\; text-decoration: none\;">Sausalito Film Festival&nbsp\;</strong></span><br />\n&nbsp\;
LOCATION:
UID:e.1780.2045
SEQUENCE:3
DTSTAMP:20260423T154320Z
URL:http://business.sausalito.org/events/details/sausalito-film-festival-2045
END:VEVENT

END:VCALENDAR
