BEGIN:VCALENDAR
VERSION:2.0
PRODID:-//ChamberMaster//Event Calendar 2.0//EN
METHOD:PUBLISH
X-PUBLISHED-TTL:P3D
REFRESH-INTERVAL:P3D
CALSCALE:GREGORIAN
BEGIN:VEVENT
DTSTART;VALUE=DATE:20180721
DTEND;VALUE=DATE:20180723
TRANSP:TRANSPARENT
X-MICROSOFT-CDO-ALLDAYEVENT:TRUE
SUMMARY:Sausalito Film Fesival
DESCRIPTION:10th Annual Sausalito Film Festival\n\n\n\n\n\nIn the heart of an artist's community\, with the Golden Gate Bridge and San Francisco across the water\, lies the ideal backdrop for a premiere film festival experience.  People around the world are drawn to Sausalito\, certainly for its picturesque beauty\, but possibly because it is so uniquely different from anywhere else. Creatives\, nonconformists\, the famous (and infamous) have felt its gravitational pull. Artists\, writers\, philosophers\, rock legends and film stars have made it their home\, in the company of boat-builders\, bootleggers and ex-madams. In this town of characters and contradictions\, an idea was born: A Sausalito Film Festival ...Experience. Films that speak to our naturally rebellious nature\, our creative soul\, our passion for cultural understanding. Films of all lengths and genres are presented - features\, shorts\, animation\, and documentaries from around the globe. Coupled with conversations and presentations that will stimulate\, and provoke the senses.\n\nBecause this is no mere picture show.\n\n\n\nFilm Trailers
X-ALT-DESC;FMTTYPE=text/html:<div class="g-group">\n<div class="g-cell g-cell-12-12">\n<div class="l-pad-vert-1">\n<h1>10th Annual Sausalito Film Festival</h1>\n</div>\n</div>\n</div>\n\n<div class="js-long-text organizer-description" data-automation="organizer-long-description">\n<p><span>In the heart of an artist&#39\;s community\, with the Golden Gate Bridge and San Francisco across the water\, lies the ideal backdrop for a premiere film festival experience.&nbsp\; People around the world are drawn to Sausalito\, certainly for its picturesque beauty\, but possibly because it is so uniquely different from anywhere else. Creatives\, nonconformists\, the famous (and infamous) have felt its gravitational pull. Artists\, writers\, philosophers\, rock legends and film stars have made it their home\, in the company of boat-builders\, bootleggers and ex-madams. In this town of characters and contradictions\, an idea was born: A Sausalito Film Festival ...Experience. Films that speak to our naturally rebellious nature\, our creative soul\, our passion for cultural understanding. Films of all lengths and genres are presented - features\, shorts\, animation\, and documentaries from around the globe. Coupled with conversations and presentations that will stimulate\, and provoke the senses.</span></p>\n\n<p><span>Because this is no mere picture show.</span><br />\n<br />\n<a href="http://www.sausalitofilmfestival.com/trailer-showcase">Film Trailers</a></p>\n</div>\n
LOCATION:Cavallo Point 601 Murray Circle Fort Baker Sausalito\, California 94965
UID:e.1780.1827
SEQUENCE:3
DTSTAMP:20260424T162507Z
URL:http://business.sausalito.org/events/details/sausalito-film-fesival-1827
END:VEVENT

END:VCALENDAR
