BEGIN:VCALENDAR
VERSION:2.0
PRODID:-//ChamberMaster//Event Calendar 2.0//EN
METHOD:PUBLISH
X-PUBLISHED-TTL:P3D
REFRESH-INTERVAL:P3D
CALSCALE:GREGORIAN
BEGIN:VEVENT
DTSTART:20200514T163000Z
DTEND:20200514T180000Z
X-MICROSOFT-CDO-ALLDAYEVENT:FALSE
SUMMARY:Sausalito Community Update COVID 19
DESCRIPTION:Update from City Council Members\, Sausalito Police Department\, Sausalito Chamber\, and Parks & Rec.  Where we are at\, what rules everyone should be following\, next steps to gradual opening\, who can be open now?
X-ALT-DESC;FMTTYPE=text/html:Update from City Council Members\, Sausalito Police Department\, Sausalito Chamber\, and Parks &amp\; Rec.&nbsp\; Where we are at\, what rules everyone should be following\, next steps to gradual opening\, who can be open now?
LOCATION:Topic: Community Update Chamber\, City Council\, Police & Parks Time: May 14\, 2020\, 09:30 AM Pacific Time (US and Canada) Join Zoom Meeting https://us02web.zoom.us/j/88453676910?pwd=M2k4REZRb1cvTVNYdTlFb3NndDdIZz09 Meeting ID: 884 5367 6910 Password: 051669 One tap mobile +16699006833\,\,88453676910#\,\,1#\,051669# US (San Jose) +12532158782\,\,88453676910#\,\,1#\,051669# US (Tacoma) Dial by your location +1 669 900 6833 US (San Jose) +1 253 215 8782 US (Tacoma) Meeting ID: 884 5367 6910 Password: 051669
UID:e.1780.2403
SEQUENCE:3
DTSTAMP:20260423T053013Z
URL:http://business.sausalito.org/events/details/sausalito-community-update-covid-19-2403
END:VEVENT

END:VCALENDAR
