BEGIN:VCALENDAR
VERSION:2.0
PRODID:-//ChamberMaster//Event Calendar 2.0//EN
METHOD:PUBLISH
X-PUBLISHED-TTL:P3D
REFRESH-INTERVAL:P3D
CALSCALE:GREGORIAN
BEGIN:VEVENT
DTSTART;VALUE=DATE:20210912
DTEND;VALUE=DATE:20210913
TRANSP:TRANSPARENT
X-MICROSOFT-CDO-ALLDAYEVENT:TRUE
SUMMARY:Sausalito Community Boating Center Grand Opening
DESCRIPTION:Let's Celebrate all the work that has been done to improve our dock and area.\n\n	Live Music\n	Guided Dock Tours\n	Bocce Tournament\n	Salty Sailor Games & Classes\n	Much more!
X-ALT-DESC;FMTTYPE=text/html:Let&#39\;s Celebrate all the work that has been done to improve our dock and area.\n<ul>\n	<li>Live Music</li>\n	<li>Guided Dock Tours</li>\n	<li>Bocce Tournament</li>\n	<li>Salty Sailor Games &amp\; Classes</li>\n	<li>Much more!</li>\n</ul>\n
LOCATION:300 Napa Street Sausalito\, CA 94965
UID:e.1780.3053
SEQUENCE:3
DTSTAMP:20260422T022135Z
URL:http://business.sausalito.org/events/details/sausalito-community-boating-center-grand-opening-3053
END:VEVENT

END:VCALENDAR
