BEGIN:VCALENDAR
VERSION:2.0
PRODID:-//ChamberMaster//Event Calendar 2.0//EN
METHOD:PUBLISH
X-PUBLISHED-TTL:P3D
REFRESH-INTERVAL:P3D
CALSCALE:GREGORIAN
BEGIN:VEVENT
DTSTART;VALUE=DATE:20210918
DTEND;VALUE=DATE:20210919
TRANSP:TRANSPARENT
X-MICROSOFT-CDO-ALLDAYEVENT:TRUE
SUMMARY:Sausalito Chili Cook-off
DESCRIPTION:The City of Sausalito will host its 42nd Chili Cook-off in Dunphy Park on Saturday\, September 18. The event features all the chili you can eat for $15\, plus live music from Tom Rigney and Flambeau. The hours are 11:30 a.m. to 3:30 p.m. Tickets will be available for purchase on the day of the event and may also be purchased online.\n\nIt's not too late to form a team and participate as a chef. There is no cost to enter the cook-off\, but teams will need to make at least 15 gallons of chili\, and cooking must be done on-site. Chefs compete in three contest categories: Judges' Choice\, People's Choice\, and Best Booth.\n\n\n\nQuestions should be directed to the Sausalito Parks and Recreation.
X-ALT-DESC;FMTTYPE=text/html:<div class="panel-body">\n<div data-contents="true">\n<div data-block="true" data-editor="6uvs" data-offset-key="4s7pi-0-0">\n<p data-offset-key="4s7pi-0-0"><span style="font-family:arial\;">The City of Sausalito will host its 42nd Chili Cook-off in <a href="https://url.emailprotection.link/?bm4VwKeZxIGQHfCfW6r6H0tqZZXI6hHycWcNVZyCiOa8LKJ58v3K2qjAJFmJehwGgFsPs7i4l_iGYzLdIA1CpdlJkjoXn9p1nPS-82hGeYGuN9cZV3WPB_yRk8UkjyxkarENWgO1epmJZTsYfbSyCBTo2K3R-GwSUVhi8V261FVM~" target="_blank">Dunphy Park</a> on Saturday\, September 18. The event features all the chili you can eat for $15\, plus live music from <a href="https://url.emailprotection.link/?b7w4GYYvq-YXNB96XgOlL8hYE8pkZb6UfvffRz34xuQoDQNpVFChmRO6E0xgSU2wjYiY_jDeobgINg38do5uldN0AemGQA0Kzv7xojQF6BzvWxD-qd13caeuzW9LEYHbrp-Wz5Z0a6FpCKU2LVcoq-E6X1UfytF9YNT_NRYlNV4s~" target="_blank">Tom Rigney and Flambeau</a>. The hours are 11:30 a.m. to 3:30 p.m. Tickets will be available for purchase on the day of the event and may also be <a href="https://url.emailprotection.link/?bBnflGI8C3Rj67WkahRzDfdUmesP5V8Gbnu6H__86x19CxVDDMZQGZdJqehrP7-WfPZVoHR0ILD2RBcUuF6Rgr9NGXlN9r9oLjLVPvnZKRhPKmyUNunFqyxipPQx0gfQZuNnYs_-No2tbOpOhmEa_L2mnzQIZm1JgttzR14UMUY0~" target="_blank">purchased online</a>.</span></p>\n\n<div data-offset-key="4s7pi-0-0"><span style="font-family:arial\;">It&#39\;s not too late to <a href="https://url.emailprotection.link/?bqB4qE2tFlzi-SzJXE2-2KeDUbd-oRN34AnDcahWOtwQL1uTUYpjxBtgeRRsfyKHKemDwbPIkzAU50wv2yRF0I4yALBYBjWVWugItHAlj80ZvoWj9VvZEBwa36m68bgZT3HMVHg-ryavl3dKI925GYUEkPUd43m7SUgB5WIIfLtA~" target="_blank" title="https://url.emailprotection.link/?bqB4qE2tFlzi-SzJXE2-2KeDUbd-oRN34AnDcahWOtwQL1uTUYpjxBtgeRRsfyKHKemDwbPIkzAU50wv2yRF0I4yALBYBjWVWugItHAlj80ZvoWj9VvZEBwa36m68bgZT3HMVHg-ryavl3dKI925GYUEkPUd43m7SUgB5WIIfLtA~">form a team</a> and participate as a chef. There is no cost to enter the cook-off\, but teams will need to make at least 15 gallons of chili\, and cooking must be done on-site. Chefs compete in three contest categories: Judges&#39\; Choice\, People&#39\;s Choice\, and Best Booth.<br />\n<br />\nQuestions should be directed to the <a href="https://bit.ly/3hcj3WV">Sausalito Parks and Recreation</a>.</span></div>\n</div>\n</div>\n</div>\n
LOCATION:Saturday September 18\, 2021 11:30 a.m. - 3:30 p.m. Dunphy Park
UID:e.1780.3062
SEQUENCE:3
DTSTAMP:20260422T021300Z
URL:http://business.sausalito.org/events/details/sausalito-chili-cook-off-3062
END:VEVENT

END:VCALENDAR
