BEGIN:VCALENDAR
VERSION:2.0
PRODID:-//ChamberMaster//Event Calendar 2.0//EN
METHOD:PUBLISH
X-PUBLISHED-TTL:P3D
REFRESH-INTERVAL:P3D
CALSCALE:GREGORIAN
BEGIN:VEVENT
DTSTART:20181009T151500Z
DTEND:20181009T163000Z
X-MICROSOFT-CDO-ALLDAYEVENT:FALSE
SUMMARY:Sausalito Chamber Annual Meeting
DESCRIPTION:The Annual Meeting is held each October to elect new board members for open positions on the board of directors and reappoint the current board members for remaining terms for the following year.\n\n\n\nIf you would like to have a particular topic discussed at the meeting\, please contact the Chamber at 331-7262 or email Chamber@sausalito.org at least two weeks prior the meeting.
X-ALT-DESC;FMTTYPE=text/html:The Annual Meeting is held each October to elect new board members for open positions on the board of directors and reappoint the current board members for remaining terms for the following year.<br />\n<br />\nIf you would like to have a particular topic discussed at the meeting\, please contact the Chamber at 331-7262 or email <a href="mailto:Chamber@sausalito.org">Chamber@sausalito.org</a> at least two weeks prior the meeting.
LOCATION:The Spinnaker Restaurant 100 Spinnaker Drive Sausalito
UID:e.1780.1661
SEQUENCE:3
DTSTAMP:20260424T111557Z
URL:http://business.sausalito.org/events/details/sausalito-chamber-annual-meeting-1661
END:VEVENT

END:VCALENDAR
