BEGIN:VCALENDAR
VERSION:2.0
PRODID:-//ChamberMaster//Event Calendar 2.0//EN
METHOD:PUBLISH
X-PUBLISHED-TTL:P3D
REFRESH-INTERVAL:P3D
CALSCALE:GREGORIAN
BEGIN:VEVENT
DTSTART:20191122T020000Z
DTEND:20191122T040000Z
X-MICROSOFT-CDO-ALLDAYEVENT:FALSE
SUMMARY:Sausalito Books by the Bay - Margaret Wilkerson Sexton
DESCRIPTION:Book Launch Party & Book Signing
X-ALT-DESC;FMTTYPE=text/html:Book Launch Party &amp\; Book Signing
LOCATION:100 Bay Street Sausalito\, CA 94965
UID:e.1780.2199
SEQUENCE:3
DTSTAMP:20260423T124922Z
URL:http://business.sausalito.org/events/details/sausalito-books-by-the-bay-margaret-wilkerson-sexton-2199
END:VEVENT

END:VCALENDAR
