BEGIN:VCALENDAR
VERSION:2.0
PRODID:-//ChamberMaster//Event Calendar 2.0//EN
METHOD:PUBLISH
X-PUBLISHED-TTL:P3D
REFRESH-INTERVAL:P3D
CALSCALE:GREGORIAN
BEGIN:VEVENT
DTSTART:20200228T020000Z
DTEND:20200228T040000Z
X-MICROSOFT-CDO-ALLDAYEVENT:FALSE
SUMMARY:Sausalito Books by the Bay - Louie Psihoyos
DESCRIPTION:The evening is a fundraiser for a new documentary film The Last Place on Earth. Tickets can be purchased on Eventbrite/TheLast Place on Earth.  Tickets are $100 each
X-ALT-DESC;FMTTYPE=text/html:The evening is a fundraiser for a new documentary film The Last Place on Earth.&nbsp\;Tickets can be purchased on Eventbrite/TheLast Place on Earth.&nbsp\; Tickets are $100 each&nbsp\;
LOCATION:Sausalito Books by the Bay
UID:e.1780.2371
SEQUENCE:3
DTSTAMP:20260423T082452Z
URL:http://business.sausalito.org/events/details/sausalito-books-by-the-bay-louie-psihoyos-2371
END:VEVENT

END:VCALENDAR
