BEGIN:VCALENDAR
VERSION:2.0
PRODID:-//ChamberMaster//Event Calendar 2.0//EN
METHOD:PUBLISH
X-PUBLISHED-TTL:P3D
REFRESH-INTERVAL:P3D
CALSCALE:GREGORIAN
BEGIN:VEVENT
DTSTART:20191027T220000Z
DTEND:20191028T000000Z
X-MICROSOFT-CDO-ALLDAYEVENT:FALSE
SUMMARY:Sausalito Books by the Bay - Ciji Ware
DESCRIPTION:Book launch party & book signing - Author Ciji Ware
X-ALT-DESC;FMTTYPE=text/html:Book launch party &amp\; book signing - Author Ciji Ware
LOCATION:100 Bay Street - Sausalito
UID:e.1780.2197
SEQUENCE:3
DTSTAMP:20260423T154004Z
URL:http://business.sausalito.org/events/details/sausalito-books-by-the-bay-ciji-ware-2197
END:VEVENT

END:VCALENDAR
