BEGIN:VCALENDAR
VERSION:2.0
PRODID:-//ChamberMaster//Event Calendar 2.0//EN
METHOD:PUBLISH
X-PUBLISHED-TTL:P3D
REFRESH-INTERVAL:P3D
CALSCALE:GREGORIAN
BEGIN:VEVENT
DTSTART:20200831T190000Z
DTEND:20200914T050000Z
X-MICROSOFT-CDO-ALLDAYEVENT:FALSE
SUMMARY:Sausalito Art Festival Online Silent Auction
DESCRIPTION:The Sausalito Art Festival silent auction is online and bidding has begun on multiple artistic categories\, presented by artists from throughout the nation. Explore work from some of your favorite Sausalito Art Festival artists while discovering new creative delights. Proceeds from the auction go to the presenting artists\, and to the Festival to help produce the 2021 Sausalito Art Festival. Please help keep the arts alive during these trying times while enhancing your surroundings with artistic beauty.
X-ALT-DESC;FMTTYPE=text/html:The Sausalito Art Festival silent auction is online and bidding has begun on multiple artistic categories\, presented by artists from throughout the nation. Explore work from some of your favorite Sausalito Art Festival artists while discovering new creative delights. Proceeds from the auction go to the presenting artists\, and to the Festival to help produce the 2021 Sausalito Art Festival. Please help keep the arts alive during these trying times while enhancing your surroundings with artistic beauty.
LOCATION:Virtual Event
UID:e.1780.2526
SEQUENCE:3
DTSTAMP:20260422T224207Z
URL:http://business.sausalito.org/events/details/sausalito-art-festival-online-silent-auction-2526
END:VEVENT

END:VCALENDAR
