BEGIN:VCALENDAR
VERSION:2.0
PRODID:-//ChamberMaster//Event Calendar 2.0//EN
METHOD:PUBLISH
X-PUBLISHED-TTL:P3D
REFRESH-INTERVAL:P3D
CALSCALE:GREGORIAN
BEGIN:VEVENT
DTSTART:20180901T010000Z
DTEND:20180901T060000Z
X-MICROSOFT-CDO-ALLDAYEVENT:FALSE
SUMMARY:Sausalito Art Festival Gala
DESCRIPTION:Moulin Rouge: An Evening at the Cabaret
X-ALT-DESC;FMTTYPE=text/html:<h1 class="text-align-center"><span style="font-family:tahoma\;">Moulin Rouge:<em> An Evening at the Cabaret</em></span></h1>\n
LOCATION:www.sausalitoartfestival.org
UID:e.1780.1824
SEQUENCE:3
DTSTAMP:20260424T162451Z
URL:http://business.sausalito.org/events/details/sausalito-art-festival-gala-1824
END:VEVENT

END:VCALENDAR
