BEGIN:VCALENDAR
VERSION:2.0
PRODID:-//ChamberMaster//Event Calendar 2.0//EN
METHOD:PUBLISH
X-PUBLISHED-TTL:P3D
REFRESH-INTERVAL:P3D
CALSCALE:GREGORIAN
BEGIN:VEVENT
DTSTART:20190831T170000Z
DTEND:20190903T020000Z
X-MICROSOFT-CDO-ALLDAYEVENT:FALSE
SUMMARY:Sausalito Art Festival
DESCRIPTION:The celebration of fine art\, music\, food\, and wine come together this Labor Day Weekend at one of the most prestigious art festivals in the country - the Sausalito Art Festival. The Sausalito Art Festival brings world-class art\, music and wine together on the Sausalito waterfront for a Festival like none other. Come for the art (because it's awesome)\, and enjoy world-class music\, wine and entertainment Aug 31-Sept 2.
X-ALT-DESC;FMTTYPE=text/html:The celebration of fine art\, music\, food\, and wine come together this Labor Day Weekend at one of the most prestigious art festivals in the country - the Sausalito Art Festival. The Sausalito Art Festival brings world-class art\, music and wine together on the Sausalito waterfront for a Festival like none other. Come for the art (because it&rsquo\;s awesome)\, and enjoy world-class music\, wine and entertainment Aug 31-Sept 2.
LOCATION:Marinship Way
UID:e.1780.2027
SEQUENCE:3
DTSTAMP:20260423T154229Z
URL:http://business.sausalito.org/events/details/sausalito-art-festival-08-31-2019-2027
END:VEVENT

END:VCALENDAR
