BEGIN:VCALENDAR
VERSION:2.0
PRODID:-//ChamberMaster//Event Calendar 2.0//EN
METHOD:PUBLISH
X-PUBLISHED-TTL:P3D
REFRESH-INTERVAL:P3D
CALSCALE:GREGORIAN
BEGIN:VEVENT
DTSTART:20190302T030000Z
DTEND:20190302T041500Z
X-MICROSOFT-CDO-ALLDAYEVENT:FALSE
SUMMARY:Sausalito and Experimental Film
DESCRIPTION:In this special program\, San Francisco-based filmmaker Dominic Angerame will use the surreal experimental film "Sausalito" (1948) by Frank Stauffacher as a jumping off point for his own film explorations of urban landscapes. Stauffacher's "Sausalito" is a surreal 11-minute excursion through Sausalito as it appeared in the late 1940s. Angerame will discuss Stauffacher's influence on his own work and that of other experimental filmmakers\, followed by a screening of his short films "Premonition" (1995) and "Revelations" (2018).
X-ALT-DESC;FMTTYPE=text/html:<span>In this special program\, San Francisco-based filmmaker Dominic Angerame will use the surreal experimental film &quot\;Sausalito&quot\; (1948) by Frank Stauffacher as a jumping off point for his own film explorations of urban landscapes. Stauffacher&#39\;s &quot\;Sausalito&quot\; is a surreal 11-minute excursion through Sausalito as it appeared in the late 1940s. Angerame will discuss Stauffacher&#39\;s influence on his own work and that of other experimental filmmakers\, followed by a screening of his short films &quot\;Premonition&quot\; (1995) and &quot\;Revelations&quot\; (2018). </span>
LOCATION:Sausalito Public Library 420 Litho Street\, Sausalito
UID:e.1780.1930
SEQUENCE:3
DTSTAMP:20260424T011140Z
URL:http://business.sausalito.org/events/details/sausalito-and-experimental-film-1930
END:VEVENT

END:VCALENDAR
