BEGIN:VCALENDAR
VERSION:2.0
PRODID:-//ChamberMaster//Event Calendar 2.0//EN
METHOD:PUBLISH
X-PUBLISHED-TTL:P3D
REFRESH-INTERVAL:P3D
CALSCALE:GREGORIAN
BEGIN:VEVENT
DTSTART;VALUE=DATE:20180704
DTEND;VALUE=DATE:20180705
TRANSP:TRANSPARENT
X-MICROSOFT-CDO-ALLDAYEVENT:TRUE
SUMMARY:Sausalito 4th of July Festivities
DESCRIPTION:The Sausalito 4th of July tradition continues! There is a full day of fun starting with a parade\, then a picnic\, and then the famous Sausalito Fireworks show.\n\n\n\nThe annual parade through town begins at 10:00am at the intersection of Second and Main Street\, heads down Bridgeway\, detours down Caledonia\, and ends at the judging tent in front of Robin Sweeny Park.\n\n\n\nAfter the parade is our very own home town picnic. It starts at 12:00pm with a live 80's cover band 80's A GoGo\, food is brought to you by the Sausalito Rotary Club and Galilee Harbor.\n\n\n\nThere will be dancing\, and family-fun games like the famous tug-o-war and the traditional City Wide Egg Toss with eggs donated by Mollie Stones.\n\n\n\nThe party then moves to Gabrielson Park for music from 6:30pm-9:30pm by Pride and Joy a bay area original party band. The music will fill the evening air in anticipation of the grand finale to a fun filled day. Richardson's Bay provides a beautiful view and front row seating to our very own fireworks display off Spinnaker Point. Fireworks start approximately at 9:00pm.\n\n\n\nReserve the best seat in the house! Tables for six can be rented for $120 for residents and $130 for non-residents by calling 415-289-4152.
X-ALT-DESC;FMTTYPE=text/html:The Sausalito 4th of July tradition continues! There is a full day of fun starting with a parade\, then a picnic\, and then the famous Sausalito Fireworks show.<br />\n<br />\nThe annual parade through town begins at 10:00am at the intersection of Second and Main Street\, heads down Bridgeway\, detours down Caledonia\, and ends at the judging tent in front of Robin Sweeny Park.<br />\n<br />\nAfter the parade is our very own home town picnic. It starts at 12:00pm with a live 80&rsquo\;s cover band 80&rsquo\;s A GoGo\, food is brought to you by the Sausalito Rotary Club and Galilee Harbor.<br />\n<br />\nThere will be dancing\, and family-fun games like the famous tug-o-war and the traditional City Wide Egg Toss with eggs donated by Mollie Stones.<br />\n<br />\nThe party then moves to Gabrielson Park for music from 6:30pm-9:30pm by Pride and Joy a bay area original party band. The music will fill the evening air in anticipation of the grand finale to a fun filled day. Richardson&rsquo\;s Bay provides a beautiful view and front row seating to our very own fireworks display off Spinnaker Point. Fireworks start approximately at 9:00pm.<br />\n<br />\nReserve the best seat in the house! Tables for six can be rented for $120 for residents and $130 for non-residents by calling 415-289-4152.
LOCATION:Sausalito
UID:e.1780.1808
SEQUENCE:3
DTSTAMP:20260424T162308Z
URL:http://business.sausalito.org/events/details/sausalito-4th-of-july-festivities-1808
END:VEVENT

END:VCALENDAR
