BEGIN:VCALENDAR
VERSION:2.0
PRODID:-//ChamberMaster//Event Calendar 2.0//EN
METHOD:PUBLISH
X-PUBLISHED-TTL:P3D
REFRESH-INTERVAL:P3D
CALSCALE:GREGORIAN
BEGIN:VEVENT
DTSTART:20180505T200000Z
DTEND:20180609T230000Z
X-MICROSOFT-CDO-ALLDAYEVENT:FALSE
SUMMARY:Sanctuary\, Monuments adn Marine Protection- Photo Reception
DESCRIPTION:A month-long photographic exhibition of rare marine wildlife and exotic habitat in the Pacific Remote Islands Marine National Monument and Greater Farallones National Marine Sanctuaryl. A mixer and artists' reception will be held Saturday May 5 from 1-3PM.
X-ALT-DESC;FMTTYPE=text/html:A month-long photographic exhibition of rare marine wildlife and exotic habitat in the Pacific Remote Islands Marine National Monument and Greater Farallones National Marine Sanctuaryl. A mixer and artists&rsquo\; reception will be held Saturday May 5 from 1-3PM.
LOCATION:Army Corps Bay Model Visitors Center\, 2100 Bridgeway\, Sausalito
UID:e.1780.1800
SEQUENCE:3
DTSTAMP:20260424T180346Z
URL:http://business.sausalito.org/events/details/sanctuary-monuments-adn-marine-protection-photo-reception-1800
END:VEVENT

END:VCALENDAR
