BEGIN:VCALENDAR
VERSION:2.0
PRODID:-//ChamberMaster//Event Calendar 2.0//EN
METHOD:PUBLISH
X-PUBLISHED-TTL:P3D
REFRESH-INTERVAL:P3D
CALSCALE:GREGORIAN
BEGIN:VEVENT
DTSTART;VALUE=DATE:20190504
DTEND;VALUE=DATE:20190506
TRANSP:TRANSPARENT
X-MICROSOFT-CDO-ALLDAYEVENT:TRUE
SUMMARY:San Francisco SAILGP
DESCRIPTION:The sailors   world champions\, Olympic medalists\, America's Cup winners   represent the best young talent their nations have produced.  This race will be held in the SF Bay\, bringing visitors to Sausalito before\, during & after the event.
X-ALT-DESC;FMTTYPE=text/html:<span style="font-size:14px\;"><span style="font-family:arial\;"><span style="color: rgb(0\, 0\, 0)\;">The sailors &ndash\; world champions\, Olympic medalists\, America&rsquo\;s Cup winners &ndash\; represent the best young talent their nations have produced.&nbsp\; This race will be held in the SF Bay\, bringing visitors to Sausalito before\, during &amp\; after the event.&nbsp\;&nbsp\;</span></span></span>
LOCATION:
UID:e.1780.1921
SEQUENCE:3
DTSTAMP:20260423T221147Z
URL:http://business.sausalito.org/events/details/san-francisco-sailgp-1921
END:VEVENT

END:VCALENDAR
