BEGIN:VCALENDAR
VERSION:2.0
PRODID:-//ChamberMaster//Event Calendar 2.0//EN
METHOD:PUBLISH
X-PUBLISHED-TTL:P3D
REFRESH-INTERVAL:P3D
CALSCALE:GREGORIAN
BEGIN:VEVENT
DTSTART:20200930T160000Z
DTEND:20200930T170000Z
X-MICROSOFT-CDO-ALLDAYEVENT:FALSE
SUMMARY:Restaurant Roundtable - Advertising Fall & Winter
DESCRIPTION:Discussion regarding the Fall & Winter months\, ideas to bring residents and visitors to Sausalito to shop for the holidays.  COVID Updates and strategies
X-ALT-DESC;FMTTYPE=text/html:Discussion regarding the Fall &amp\; Winter months\, ideas to bring residents and visitors to Sausalito to shop for the holidays.&nbsp\; COVID Updates and strategies&nbsp\;
LOCATION:Via Zoom - information will be in our chamber newsletters. If you do not receive our newsletter please sign-up at www.sausalito.org
UID:e.1780.2532
SEQUENCE:3
DTSTAMP:20260422T223716Z
URL:http://business.sausalito.org/events/details/restaurant-roundtable-advertising-fall-winter-2532
END:VEVENT

END:VCALENDAR
