BEGIN:VCALENDAR
VERSION:2.0
PRODID:-//ChamberMaster//Event Calendar 2.0//EN
METHOD:PUBLISH
X-PUBLISHED-TTL:P3D
REFRESH-INTERVAL:P3D
CALSCALE:GREGORIAN
BEGIN:VEVENT
DTSTART;VALUE=DATE:20200309
DTEND;VALUE=DATE:20200310
TRANSP:TRANSPARENT
X-MICROSOFT-CDO-ALLDAYEVENT:TRUE
SUMMARY:Resident Registration - City Wide Yard Sale
DESCRIPTION:City of Sausalito bi-annual yard sale registration for a seller's booth begins.  Booths range from $15-$31.
X-ALT-DESC;FMTTYPE=text/html:City of Sausalito bi-annual yard sale registration for a seller&#39\;s booth begins.&nbsp\; Booths range from $15-$31.
LOCATION:Come by the Recreation office at City Hall on the first level to get your booth\, or call (415)289-4152.
UID:e.1780.2204
SEQUENCE:3
DTSTAMP:20260423T082510Z
URL:http://business.sausalito.org/events/details/resident-registration-city-wide-yard-sale-2204
END:VEVENT

END:VCALENDAR
