BEGIN:VCALENDAR
VERSION:2.0
PRODID:-//ChamberMaster//Event Calendar 2.0//EN
METHOD:PUBLISH
X-PUBLISHED-TTL:P3D
REFRESH-INTERVAL:P3D
CALSCALE:GREGORIAN
BEGIN:VEVENT
DTSTART;VALUE=DATE:20191031
DTEND;VALUE=DATE:20191101
TRANSP:TRANSPARENT
X-MICROSOFT-CDO-ALLDAYEVENT:TRUE
SUMMARY:Pumpkin Lane
DESCRIPTION:Pumpkin Carving Contest *\n\nSponsored by Sausalito Chamber of Commerce\, Mollie Stone's and Studio 333\n\n\n\nPumpkins will be Displayed and Judged Oct. 31 at Studio 333\n\nFREE to Enter!\n\nContest for Businesses & Kids\n\nGeneral Public will be the judge on October 31.
X-ALT-DESC;FMTTYPE=text/html:<span>Pumpkin Carving Contest *<br />\nSponsored by Sausalito Chamber of Commerce\, Mollie Stone&#39\;s and Studio 333<br />\n<br />\nPumpkins will be Displayed and Judged Oct. 31 at Studio 333<br />\nFREE to Enter!<br />\nContest for Businesses &amp\; Kids<br />\nGeneral Public will be the judge on October 31.</span><br />\n<br />\n<br />\n&nbsp\;
LOCATION:Studio 333 333 Caledonia Street Sausalito\, CA 94965
UID:e.1780.2202
SEQUENCE:3
DTSTAMP:20260423T153931Z
URL:http://business.sausalito.org/events/details/pumpkin-lane-2202
END:VEVENT

END:VCALENDAR
