BEGIN:VCALENDAR
VERSION:2.0
PRODID:-//ChamberMaster//Event Calendar 2.0//EN
METHOD:PUBLISH
X-PUBLISHED-TTL:P3D
REFRESH-INTERVAL:P3D
CALSCALE:GREGORIAN
BEGIN:VEVENT
DTSTART;VALUE=DATE:20181031
DTEND;VALUE=DATE:20181101
TRANSP:TRANSPARENT
X-MICROSOFT-CDO-ALLDAYEVENT:TRUE
SUMMARY:Pumpkin Carving Contest
DESCRIPTION:Pumpkin Carving Contest\n			\n			\n			\n		\n	\n\n\n\n\n\n	\n		\n			\n			Participate in the Chambers pumpkin carving contest.\n\n			\n			\n			 \n\n			Pumpkins will be displayed at Studio 333\, around the "Witches Patio" during the Halloween festivities along Caledonia Street on October 31st.\n\n			 \n\n			The General Public will be the judges. \n\n			So get your creative juices flowing.\n\n			 \n\n			Pumpkins will be provided - No Cost to enter.
X-ALT-DESC;FMTTYPE=text/html:<div class="gl-contains-text" style="color: rgb(0\, 0\, 0)\; font-family: -webkit-standard\; font-style: normal\; font-variant-caps: normal\; font-weight: normal\; letter-spacing: normal\; orphans: auto\; text-align: -webkit-left\; text-indent: 0px\; text-transform: none\; white-space: normal\; widows: auto\; word-spacing: 0px\; -webkit-text-size-adjust: auto\; -webkit-text-stroke-width: 0px\; background-color: rgb(255\, 255\, 255)\;">\n<table border="0" cellpadding="0" cellspacing="0" style="border-collapse: collapse\; table-layout: fixed\;" width="100%">\n	<tbody>\n		<tr>\n			<td align="left" class="editor-text feature-heading-text" style="-webkit-font-smoothing: antialiased\; font-family: Arial\, Verdana\, Helvetica\, sans-serif\; font-size: 16px\; color: rgb(10\, 116\, 219)\; text-align: left\; display: block\; word-wrap: break-word\; font-weight: bold\; padding: 10px 20px 10px 10px\;" valign="top">\n			<div class="text-container galileo-ap-content-editor">\n			<div>\n			<div align="center" style="text-align: center\;"><span style="font-size:20px\;"><span style="color:#FF8C00\;">Pumpkin Carving Contest</span></span></div>\n			</div>\n			</div>\n			</td>\n		</tr>\n	</tbody>\n</table>\n</div>\n\n<div class="gl-contains-text" style="color: rgb(0\, 0\, 0)\; font-family: -webkit-standard\; font-style: normal\; font-variant-caps: normal\; font-weight: normal\; letter-spacing: normal\; orphans: auto\; text-align: -webkit-left\; text-indent: 0px\; text-transform: none\; white-space: normal\; widows: auto\; word-spacing: 0px\; -webkit-text-size-adjust: auto\; -webkit-text-stroke-width: 0px\; background-color: rgb(255\, 255\, 255)\;">\n<table border="0" cellpadding="0" cellspacing="0" style="border-collapse: collapse\; table-layout: fixed\;" width="100%">\n	<tbody>\n		<tr>\n			<td align="left" class="editor-text feature-text" style="-webkit-font-smoothing: antialiased\; font-family: Arial\, Verdana\, Helvetica\, sans-serif\; font-size: 12px\; color: rgb(2\, 2\, 2)\; text-align: left\; display: block\; word-wrap: break-word\; padding: 10px 20px 10px 10px\;" valign="top">\n			<div><span style="font-size: 14px\;">Participate in the Chambers pumpkin carving contest.</span></div>\n\n			<div class="text-container galileo-ap-content-editor">\n			<div>\n			<div>&nbsp\;</div>\n\n			<div><span style="font-size: 14px\;">Pumpkins will be displayed at Studio 333\, around the </span><span style="font-size: 14px\; font-weight: bold\;">&quot\;W</span><span style="font-size: 14px\; font-weight: bold\; font-style: italic\;">itches Patio&quot\;</span><span style="font-size: 14px\;"> during the Halloween festivities along Caledonia Street on October 31st.</span></div>\n\n			<div>&nbsp\;</div>\n\n			<div><span style="font-size: 14px\;">The General Public will be the judges. </span></div>\n\n			<div><span style="font-size: 14px\;">So get your creative juices flowing.</span></div>\n\n			<div>&nbsp\;</div>\n\n			<div><span style="font-size: 14px\;">Pumpkins will be provided - No Cost to enter.</span></div>\n			</div>\n			</div>\n			</td>\n		</tr>\n	</tbody>\n</table>\n</div>\n
LOCATION:Carved pumpkins must be delivered to Studio 333 by October 30th at 3:00 PM.
UID:e.1780.1849
SEQUENCE:3
DTSTAMP:20260424T111539Z
URL:http://business.sausalito.org/events/details/pumpkin-carving-contest-1849
END:VEVENT

END:VCALENDAR
