BEGIN:VCALENDAR
VERSION:2.0
PRODID:-//ChamberMaster//Event Calendar 2.0//EN
METHOD:PUBLISH
X-PUBLISHED-TTL:P3D
REFRESH-INTERVAL:P3D
CALSCALE:GREGORIAN
BEGIN:VEVENT
DTSTART:20190429T160000Z
DTEND:20190429T170000Z
X-MICROSOFT-CDO-ALLDAYEVENT:FALSE
SUMMARY:Princess Street Merchants Meeting
DESCRIPTION:Monthly Merchants Meeting to continue the converstaion and follow-up on items from April 2nd meeting. \n\nMarketing Opportunities\n\nFall Festival\n\nContinual Construction\n\nPotted Plants\n\nSignage
X-ALT-DESC;FMTTYPE=text/html:Monthly Merchants Meeting to continue the converstaion and follow-up on items from April 2nd meeting.&nbsp\;<br />\nMarketing Opportunities<br />\nFall Festival<br />\nContinual Construction<br />\nPotted Plants<br />\nSignage
LOCATION:Cafe Tutti
UID:e.1780.1964
SEQUENCE:3
DTSTAMP:20260423T235407Z
URL:http://business.sausalito.org/events/details/princess-street-merchants-meeting-1964
END:VEVENT

END:VCALENDAR
