BEGIN:VCALENDAR
VERSION:2.0
PRODID:-//ChamberMaster//Event Calendar 2.0//EN
METHOD:PUBLISH
X-PUBLISHED-TTL:P3D
REFRESH-INTERVAL:P3D
CALSCALE:GREGORIAN
BEGIN:VEVENT
DTSTART:20211218T010000Z
DTEND:20211218T030000Z
X-MICROSOFT-CDO-ALLDAYEVENT:FALSE
SUMMARY:Princess Street Merchants Celebration
DESCRIPTION:Celebrate the Holidays among a twinkling Princess Street! \n\nMerchants will spread good cheer and be open for Holiday Shopping\, Dining & Live Music! \n\nYou'll have an abundance of shopping selections to choose from. Fill your gift-giving basket with merchandise from a local business that no mall will have. \n\nLocation: Princess Street & Bridgeway
X-ALT-DESC;FMTTYPE=text/html:<span style="color:black\;"><span style="font-family:helvetica\,arial\,sans-serif\;"><span style="font-size:11pt\;">Celebrate the Holidays among a twinkling Princess Street! </span></span></span><br />\n<span style="color:black\;"><span style="font-family:helvetica\,arial\,sans-serif\;"><span style="font-size:11pt\;">Merchants will spread good cheer and be open for Holiday Shopping\, Dining &amp\; Live Music! </span></span></span><br />\n<span style="color:black\;"><span style="font-family:helvetica\,arial\,sans-serif\;"><span style="font-size:11pt\;">You&rsquo\;ll have an abundance of shopping selections to choose from. Fill your gift-giving basket with merchandise from a local business that no mall will have. </span></span></span><br />\n<span style="color:black\;"><span style="font-family:helvetica\,arial\,sans-serif\;"><span style="font-size:11pt\;">Location: Princess Street &amp\; Bridgeway</span></span></span><br />\n<br />\n&nbsp\;
LOCATION:Celebrate the Holidays among a twinkling Princess Street! Merchants will spread good cheer and be open for Holiday Shopping\, Dining & Live Music! You'll have an abundance of shopping selections to choose from. Fill your gift-giving basket with merchandise from a local business that no mall will have. Location: Princess Street & Bridgeway
UID:e.1780.3103
SEQUENCE:3
DTSTAMP:20260421T205058Z
URL:http://business.sausalito.org/events/details/princess-street-merchants-celebration-3103
END:VEVENT

END:VCALENDAR
