BEGIN:VCALENDAR
VERSION:2.0
PRODID:-//ChamberMaster//Event Calendar 2.0//EN
METHOD:PUBLISH
X-PUBLISHED-TTL:P3D
REFRESH-INTERVAL:P3D
CALSCALE:GREGORIAN
BEGIN:VEVENT
DTSTART:20190402T160000Z
DTEND:20190402T173000Z
X-MICROSOFT-CDO-ALLDAYEVENT:FALSE
SUMMARY:Princess Street Merchants & Business Owners Meeting
DESCRIPTION:You do not need to be a Chamber Member to attend.\n\n\n\nThe Chamber is inviting Princess Street businesses to join a conversation on April 2\, from 9:00 to 10:00 am. Topic how we can all work together to improve business opportunities\, help businesses thrive and bring awareness of the unique businesses on Princess Street. Please attend and be a part of the conversation. Together we can plan the future. \n\nFor more information\, you can email chamber@sausalito.org or call 415-331-7262.
X-ALT-DESC;FMTTYPE=text/html:<strong style="color: rgb(51\, 51\, 51)\; font-family: sans-serif\, Arial\, Verdana\, &quot\;Trebuchet MS&quot\;\; font-size: 13px\;"><span style="color: rgb(29\, 33\, 41)\; font-family: Helvetica\, Arial\, sans-serif\; font-size: 14px\; white-space: pre-wrap\; background-color: rgb(255\, 255\, 255)\;">You do not need to be a Chamber Member to attend.</span></strong><br />\n<br />\n<span style="color: rgb(29\, 33\, 41)\; font-family: Helvetica\, Arial\, sans-serif\; font-size: 14px\; white-space: pre-wrap\; background-color: rgb(255\, 255\, 255)\;">The Chamber is inviting Princess Street businesses to join a conversation on April 2\, from 9:00 to 10:00 am. Topic how we can all work together to improve business opportunities\, help businesses thrive and bring awareness of the unique businesses on Princess Street. Please attend and be a part of the conversation. Together we can plan the future. </span><br style="color: rgb(29\, 33\, 41)\; font-family: Helvetica\, Arial\, sans-serif\; font-size: 14px\; white-space: pre-wrap\; background-color: rgb(255\, 255\, 255)\;" />\n<span style="color: rgb(29\, 33\, 41)\; font-family: Helvetica\, Arial\, sans-serif\; font-size: 14px\; white-space: pre-wrap\; background-color: rgb(255\, 255\, 255)\;">For more information\, you can email chamber@sausalito.org or call 415-331-7262. </span>
LOCATION:Cafe Tutti
UID:e.1780.1947
SEQUENCE:3
DTSTAMP:20260423T235345Z
URL:http://business.sausalito.org/events/details/princess-street-merchants-business-owners-meeting-1947
END:VEVENT

END:VCALENDAR
