BEGIN:VCALENDAR
VERSION:2.0
PRODID:-//ChamberMaster//Event Calendar 2.0//EN
METHOD:PUBLISH
X-PUBLISHED-TTL:P3D
REFRESH-INTERVAL:P3D
CALSCALE:GREGORIAN
BEGIN:VEVENT
DTSTART:20190708T160000Z
DTEND:20190708T170000Z
X-MICROSOFT-CDO-ALLDAYEVENT:FALSE
SUMMARY:Princess Street Merchants and Business Owners Meeting
DESCRIPTION:Merchants Meeting to discuss topics related to businesses on Princess Street.  Agenda will be distributed to those on the mailing list at least one week before the meeting.\n\n\n\nDiscussion & Planning for Princess Street Block Party\, October 27th
X-ALT-DESC;FMTTYPE=text/html:Merchants Meeting to discuss topics related to businesses on Princess Street.&nbsp\; Agenda will be distributed to those on the mailing list at least one week before the meeting.<br />\n<br />\nDiscussion &amp\; Planning for Princess Street Block Party\, October 27th
LOCATION:Cafe Tutti - 9:00 - 10:00 AM
UID:e.1780.2012
SEQUENCE:3
DTSTAMP:20260423T191229Z
URL:http://business.sausalito.org/events/details/princess-street-merchants-and-business-owners-meeting-2012
END:VEVENT

END:VCALENDAR
