BEGIN:VCALENDAR
VERSION:2.0
PRODID:-//ChamberMaster//Event Calendar 2.0//EN
METHOD:PUBLISH
X-PUBLISHED-TTL:P3D
REFRESH-INTERVAL:P3D
CALSCALE:GREGORIAN
BEGIN:VEVENT
DTSTART:20190530T160000Z
DTEND:20190530T170000Z
X-MICROSOFT-CDO-ALLDAYEVENT:FALSE
SUMMARY:Princess Street Merchants and Business Owners Meeting
DESCRIPTION:Merchants Meeting to discuss topice related to businesses on Princess Street.  Adgenda will be distributed to those on the mailing list one week before the meeting.
X-ALT-DESC;FMTTYPE=text/html:Merchants Meeting to discuss topice related to businesses on Princess Street.&nbsp\; Adgenda will be distributed to those on the mailing list one week before the meeting.
LOCATION:Cafe Tutti - 9:00 -m 10:00 AM
UID:e.1780.1980
SEQUENCE:3
DTSTAMP:20260423T221409Z
URL:http://business.sausalito.org/events/details/princess-street-merchants-and-business-owners-meeting-1980
END:VEVENT

END:VCALENDAR
