BEGIN:VCALENDAR
VERSION:2.0
PRODID:-//ChamberMaster//Event Calendar 2.0//EN
METHOD:PUBLISH
X-PUBLISHED-TTL:P3D
REFRESH-INTERVAL:P3D
CALSCALE:GREGORIAN
BEGIN:VEVENT
DTSTART:20191117T180000Z
DTEND:20191118T010000Z
X-MICROSOFT-CDO-ALLDAYEVENT:FALSE
SUMMARY:Princess Street Artists & Sidewalk Faire
DESCRIPTION:Princess Street Party\n\nboutique shops\, live art\, live music\, refreshments\, and FUN!!
X-ALT-DESC;FMTTYPE=text/html:Princess Street Party<br />\nboutique shops\, live art\, live music\, refreshments\, and FUN!!
LOCATION:Princess Street Sausalito Located at Princess and Bridgeway in the heart of Sausalito
UID:e.1780.2332
SEQUENCE:3
DTSTAMP:20260423T125051Z
URL:http://business.sausalito.org/events/details/princess-street-artists-sidewalk-faire-11-17-2019-2332
END:VEVENT

END:VCALENDAR
