BEGIN:VCALENDAR
VERSION:2.0
PRODID:-//ChamberMaster//Event Calendar 2.0//EN
METHOD:PUBLISH
X-PUBLISHED-TTL:P3D
REFRESH-INTERVAL:P3D
CALSCALE:GREGORIAN
BEGIN:VEVENT
DTSTART:20191008T150000Z
DTEND:20191008T163000Z
X-MICROSOFT-CDO-ALLDAYEVENT:FALSE
SUMMARY:POSTPHONED - Annual Meeting
DESCRIPTION:The Chamber Annual Meeting has been moved to November 12th - Location to be determined.
X-ALT-DESC;FMTTYPE=text/html:The Chamber Annual Meeting has been moved to November 12th - Location to be determined.
LOCATION:
UID:e.1780.1673
SEQUENCE:3
DTSTAMP:20260423T142010Z
URL:http://business.sausalito.org/events/details/postphoned-annual-meeting-1673
END:VEVENT

END:VCALENDAR
