BEGIN:VCALENDAR
VERSION:2.0
PRODID:-//ChamberMaster//Event Calendar 2.0//EN
METHOD:PUBLISH
X-PUBLISHED-TTL:P3D
REFRESH-INTERVAL:P3D
CALSCALE:GREGORIAN
BEGIN:VEVENT
DTSTART:20190610T153000Z
DTEND:20190611T053000Z
X-MICROSOFT-CDO-ALLDAYEVENT:FALSE
SUMMARY:PG&E Power Shut Off Plan
DESCRIPTION:In lieu of a Business Exchange Forum in the month of June\, the Sausalito Chamber of Commerce will be attending the PG&E Power Shut off Meeting hosted by The Southern Marin Fire District. We encourage all chamber members to attend the meet.\n\n \n\nThe meeting is open to the Sausalito business community and will take place on June 10\, 2019 from 8:30am - 10:30 am at the Sausalito City Council Chambers.\n\n \n\nThe presentation/workshop is designed to provide businesses in Sausalito with an understanding of PG&E's plan\, how it could impact individual businesses\, and how to develop a plan to mitigate/minimize any negative impacts of a power shut off by PG&E. \n\n \n\nThis plan by PG&E is expected to deploy for the upcoming fire season and is a strategy they are using to minimize any potential fire starts from their infrastructure.
X-ALT-DESC;FMTTYPE=text/html:<div style="color: rgb(64\, 63\, 66)\; font-family: Arial\, Verdana\, Helvetica\, sans-serif\; font-size: 12px\; font-style: normal\; font-variant-caps: normal\; font-weight: normal\; letter-spacing: normal\; orphans: auto\; text-align: left\; text-indent: 0px\; text-transform: none\; white-space: normal\; widows: auto\; word-spacing: 0px\; -webkit-text-size-adjust: auto\; -webkit-text-stroke-width: 0px\;"><span style="font-size: 14px\;"><u>In lieu of a Business Exchange Forum in the month of June</u>\, the Sausalito Chamber of Commerce will be attending the PG&amp\;E Power Shut off Meeting hosted by The Southern Marin Fire District. We encourage all chamber members to attend the meet.</span></div>\n\n<div style="color: rgb(64\, 63\, 66)\; font-family: Arial\, Verdana\, Helvetica\, sans-serif\; font-size: 12px\; font-style: normal\; font-variant-caps: normal\; font-weight: normal\; letter-spacing: normal\; orphans: auto\; text-align: left\; text-indent: 0px\; text-transform: none\; white-space: normal\; widows: auto\; word-spacing: 0px\; -webkit-text-size-adjust: auto\; -webkit-text-stroke-width: 0px\;">&nbsp\;</div>\n\n<div style="color: rgb(64\, 63\, 66)\; font-family: Arial\, Verdana\, Helvetica\, sans-serif\; font-size: 12px\; font-style: normal\; font-variant-caps: normal\; font-weight: normal\; letter-spacing: normal\; orphans: auto\; text-align: left\; text-indent: 0px\; text-transform: none\; white-space: normal\; widows: auto\; word-spacing: 0px\; -webkit-text-size-adjust: auto\; -webkit-text-stroke-width: 0px\;"><span style="font-size: 14px\;">The meeting is open to the Sausalito business community and will take place on June 10\, 2019 from 8:30am - 10:30 am at the Sausalito City Council Chambers.</span></div>\n\n<div style="color: rgb(64\, 63\, 66)\; font-family: Arial\, Verdana\, Helvetica\, sans-serif\; font-size: 12px\; font-style: normal\; font-variant-caps: normal\; font-weight: normal\; letter-spacing: normal\; orphans: auto\; text-align: left\; text-indent: 0px\; text-transform: none\; white-space: normal\; widows: auto\; word-spacing: 0px\; -webkit-text-size-adjust: auto\; -webkit-text-stroke-width: 0px\;">&nbsp\;</div>\n\n<div style="color: rgb(64\, 63\, 66)\; font-family: Arial\, Verdana\, Helvetica\, sans-serif\; font-size: 12px\; font-style: normal\; font-variant-caps: normal\; font-weight: normal\; letter-spacing: normal\; orphans: auto\; text-align: left\; text-indent: 0px\; text-transform: none\; white-space: normal\; widows: auto\; word-spacing: 0px\; -webkit-text-size-adjust: auto\; -webkit-text-stroke-width: 0px\;"><span style="font-size: 15px\;">The presentation/workshop is designed to provide businesses in Sausalito with an understanding of PG&amp\;E&rsquo\;s plan\, how it could impact individual businesses\, and how to develop a plan to mitigate/minimize any negative impacts of a power shut off by PG&amp\;E.&nbsp\;</span></div>\n\n<div style="color: rgb(64\, 63\, 66)\; font-family: Arial\, Verdana\, Helvetica\, sans-serif\; font-size: 12px\; font-style: normal\; font-variant-caps: normal\; font-weight: normal\; letter-spacing: normal\; orphans: auto\; text-align: left\; text-indent: 0px\; text-transform: none\; white-space: normal\; widows: auto\; word-spacing: 0px\; -webkit-text-size-adjust: auto\; -webkit-text-stroke-width: 0px\;">&nbsp\;</div>\n\n<div style="color: rgb(64\, 63\, 66)\; font-family: Arial\, Verdana\, Helvetica\, sans-serif\; font-size: 12px\; font-style: normal\; font-variant-caps: normal\; font-weight: normal\; letter-spacing: normal\; orphans: auto\; text-align: left\; text-indent: 0px\; text-transform: none\; white-space: normal\; widows: auto\; word-spacing: 0px\; -webkit-text-size-adjust: auto\; -webkit-text-stroke-width: 0px\;"><span style="font-size: 15px\;">This plan by PG&amp\;E is expected to deploy for the upcoming fire season and is a strategy they are using to minimize any potential fire starts from their infrastructure.</span></div>\n
LOCATION:Sausalito City Council Chambers 420 Litho Street
UID:e.1780.1999
SEQUENCE:3
DTSTAMP:20260423T203219Z
URL:http://business.sausalito.org/events/details/pg-e-power-shut-off-plan-1999
END:VEVENT

END:VCALENDAR
