BEGIN:VCALENDAR
VERSION:2.0
PRODID:-//ChamberMaster//Event Calendar 2.0//EN
METHOD:PUBLISH
X-PUBLISHED-TTL:P3D
REFRESH-INTERVAL:P3D
CALSCALE:GREGORIAN
BEGIN:VEVENT
DTSTART;VALUE=DATE:20190428
DTEND;VALUE=DATE:20190429
TRANSP:TRANSPARENT
X-MICROSOFT-CDO-ALLDAYEVENT:TRUE
SUMMARY:Opening Day on the Bay
DESCRIPTION:Opening Day on the Bay is an annual celebration of the maritime community on the San Francisco Bay. Blessing of the fleet\, parade\, and sail One of the most popular days of sailing on the San Francisco Bay! Begins in Racoon Straits. Sausalito\, San Francisco\, Tiburon and more.\n\n\nOpening day at SYC begins at noon until 6pm and I believe the boat blessing is at 10:30am.\n\nFestivities are:\n\n12pm- BBQ & Margarita Bar\n\n12pm-4pm SYSF - Silent Auction\n\n12pm-3pm - Acoustic Entertainment - Jamie Clark & Clarksville Station Band\n\n3pm-6pm - Dancing Session with Band
X-ALT-DESC;FMTTYPE=text/html:<strong>Opening Day on the Bay is an annual celebration of the maritime community on the San Francisco Bay</strong>. Blessing of the fleet\, parade\, and sail&mdash\;One of the most popular days of sailing on the San Francisco Bay! Begins in Racoon Straits. Sausalito\, San Francisco\, Tiburon and more.\n<div style="color: rgb(0\, 0\, 0)\; font-family: -webkit-standard\; font-style: normal\; font-variant-caps: normal\; font-weight: normal\; letter-spacing: normal\; orphans: auto\; text-align: start\; text-indent: 0px\; text-transform: none\; white-space: normal\; widows: auto\; word-spacing: 0px\; -webkit-text-size-adjust: auto\; -webkit-text-stroke-width: 0px\;"><br />\nOpening day at SYC begins at noon until 6pm and I believe the boat blessing is at 10:30am.</div>\n\n<div style="color: rgb(0\, 0\, 0)\; font-family: -webkit-standard\; font-style: normal\; font-variant-caps: normal\; font-weight: normal\; letter-spacing: normal\; orphans: auto\; text-align: start\; text-indent: 0px\; text-transform: none\; white-space: normal\; widows: auto\; word-spacing: 0px\; -webkit-text-size-adjust: auto\; -webkit-text-stroke-width: 0px\;">Festivities are:<br />\n12pm- BBQ &amp\; Margarita Bar<br />\n12pm-4pm SYSF - Silent Auction<br />\n12pm-3pm - Acoustic Entertainment - Jamie Clark &amp\; Clarksville Station Band</div>\n\n<div style="color: rgb(0\, 0\, 0)\; font-family: -webkit-standard\; font-style: normal\; font-variant-caps: normal\; font-weight: normal\; letter-spacing: normal\; orphans: auto\; text-align: start\; text-indent: 0px\; text-transform: none\; white-space: normal\; widows: auto\; word-spacing: 0px\; -webkit-text-size-adjust: auto\; -webkit-text-stroke-width: 0px\;">3pm-6pm - Dancing Session with Band</div>\n
LOCATION:Sausalito Yacht Club 100 Humboldt Ave\, Sausalito\, CA 94965
UID:e.1780.1952
SEQUENCE:3
DTSTAMP:20260423T234934Z
URL:http://business.sausalito.org/events/details/opening-day-on-the-bay-1952
END:VEVENT

END:VCALENDAR
